BEGIN:VCALENDAR
VERSION:2.0
PRODID:-//Campus St. Brendan&#039;s Rugby - ECPv6.15.20//NONSGML v1.0//EN
CALSCALE:GREGORIAN
METHOD:PUBLISH
X-WR-CALNAME:Campus St. Brendan&#039;s Rugby
X-ORIGINAL-URL:https://campus.stbrendansrugbyclub.com.ar
X-WR-CALDESC:Eventos para Campus St. Brendan&#039;s Rugby
REFRESH-INTERVAL;VALUE=DURATION:PT1H
X-Robots-Tag:noindex
X-PUBLISHED-TTL:PT1H
BEGIN:VTIMEZONE
TZID:America/Argentina/Buenos_Aires
BEGIN:STANDARD
TZOFFSETFROM:-0300
TZOFFSETTO:-0300
TZNAME:-03
DTSTART:20250101T000000
END:STANDARD
END:VTIMEZONE
BEGIN:VEVENT
DTSTART;TZID=America/Argentina/Buenos_Aires:20260321T093000
DTEND;TZID=America/Argentina/Buenos_Aires:20260321T123000
DTSTAMP:20260423T192541
CREATED:20260317T205230Z
LAST-MODIFIED:20260318T101212Z
UID:11698-1774085400-1774096200@campus.stbrendansrugbyclub.com.ar
SUMMARY:ENCUENTRO INFANTILES EN DAOM
DESCRIPTION:
URL:https://campus.stbrendansrugbyclub.com.ar/evento/encuentro-infantiles-en-daom/
LOCATION:DAOM\, Av. Lafuente 2309\, Ciudad Autonoma De Buenos Aires\, Buenos Aires\, Argentina
CATEGORIES:INFANTILES
ATTACH;FMTTYPE=image/png:https://campus.stbrendansrugbyclub.com.ar/wp-content/uploads/2026/03/2026-03-21-ENCUENTRO-INFANTILES-DAOM.png
END:VEVENT
BEGIN:VEVENT
DTSTART;TZID=America/Argentina/Buenos_Aires:20260328T093000
DTEND;TZID=America/Argentina/Buenos_Aires:20260328T123000
DTSTAMP:20260423T192541
CREATED:20260317T205657Z
LAST-MODIFIED:20260317T205657Z
UID:11708-1774690200-1774701000@campus.stbrendansrugbyclub.com.ar
SUMMARY:ENCUENTRO INFANTILES EN EL CLUB
DESCRIPTION:Los Pinos / Los Cedros / Tigre A CONFIRMAR
URL:https://campus.stbrendansrugbyclub.com.ar/evento/encuentro-infantiles-en-el-club/
LOCATION:SBRC – Pilar del Este\, A. Palma 3150\, Villa Rosa\, Pcia. Bs. As.\, Argentina
CATEGORIES:INFANTILES
ATTACH;FMTTYPE=image/png:https://campus.stbrendansrugbyclub.com.ar/wp-content/uploads/2026/03/2026-03-28-ENCUENTRO-INFANTILES-EN-EL-CLUB.png
END:VEVENT
END:VCALENDAR