BEGIN:VCALENDAR
VERSION:2.0
PRODID:-//Campus St. Brendan&#039;s Rugby - ECPv6.15.20//NONSGML v1.0//EN
CALSCALE:GREGORIAN
METHOD:PUBLISH
X-WR-CALNAME:Campus St. Brendan&#039;s Rugby
X-ORIGINAL-URL:https://campus.stbrendansrugbyclub.com.ar
X-WR-CALDESC:Eventos para Campus St. Brendan&#039;s Rugby
REFRESH-INTERVAL;VALUE=DURATION:PT1H
X-Robots-Tag:noindex
X-PUBLISHED-TTL:PT1H
BEGIN:VTIMEZONE
TZID:America/Argentina/Buenos_Aires
BEGIN:STANDARD
TZOFFSETFROM:-0300
TZOFFSETTO:-0300
TZNAME:-03
DTSTART:20240101T000000
END:STANDARD
END:VTIMEZONE
BEGIN:VEVENT
DTSTART;TZID=America/Argentina/Buenos_Aires:20250802T100000
DTEND;TZID=America/Argentina/Buenos_Aires:20250802T170000
DTSTAMP:20260424T063122
CREATED:20241223T112123Z
LAST-MODIFIED:20241223T112123Z
UID:7795-1754128800-1754154000@campus.stbrendansrugbyclub.com.ar
SUMMARY:SBRC vs. VICENTINOS - Fecha 17
DESCRIPTION:
URL:https://campus.stbrendansrugbyclub.com.ar/evento/sbrc-vs-vicentinos-fecha-17/
LOCATION:SBRC – Pilar del Este\, A. Palma 3150\, Villa Rosa\, Pcia. Bs. As.\, Argentina
CATEGORIES:INTERMEDIA,PLANTEL SUPERIOR,PRE - INTERMEDIA,PRIMERA
END:VEVENT
BEGIN:VEVENT
DTSTART;TZID=America/Argentina/Buenos_Aires:20250809T110000
DTEND;TZID=America/Argentina/Buenos_Aires:20250809T170000
DTSTAMP:20260424T063122
CREATED:20241223T112310Z
LAST-MODIFIED:20241223T112310Z
UID:7797-1754737200-1754758800@campus.stbrendansrugbyclub.com.ar
SUMMARY:CENTRO NAVAL vs. SBRC - Fecha 18
DESCRIPTION:
URL:https://campus.stbrendansrugbyclub.com.ar/evento/centro-naval-vs-sbrc-fecha-18/
LOCATION:Centro Naval\, Colectora Av. Cantilo 3200\, CABA\, Argentina
CATEGORIES:INTERMEDIA,PLANTEL SUPERIOR,PRE - INTERMEDIA,PRIMERA
END:VEVENT
BEGIN:VEVENT
DTSTART;TZID=America/Argentina/Buenos_Aires:20250816T110000
DTEND;TZID=America/Argentina/Buenos_Aires:20250816T170000
DTSTAMP:20260424T063122
CREATED:20241223T112554Z
LAST-MODIFIED:20241223T112554Z
UID:7799-1755342000-1755363600@campus.stbrendansrugbyclub.com.ar
SUMMARY:SBRC vs. CASA DE PADUA - Fecha 19 - A CONFIRMAR
DESCRIPTION:
URL:https://campus.stbrendansrugbyclub.com.ar/evento/sbrc-vs-casa-de-padua-fecha-19-a-confirmar/
LOCATION:SBRC – Pilar del Este\, A. Palma 3150\, Villa Rosa\, Pcia. Bs. As.\, Argentina
CATEGORIES:INTERMEDIA,PLANTEL SUPERIOR,PRE - INTERMEDIA,PRIMERA
END:VEVENT
BEGIN:VEVENT
DTSTART;VALUE=DATE:20250823
DTEND;VALUE=DATE:20250825
DTSTAMP:20260424T063122
CREATED:20241223T112656Z
LAST-MODIFIED:20241223T112656Z
UID:7801-1755910800-1755997199@campus.stbrendansrugbyclub.com.ar
SUMMARY:AGOSTO 23 LIBRE??
DESCRIPTION:
URL:https://campus.stbrendansrugbyclub.com.ar/evento/agosto-23-libre/
LOCATION:Pcia. Bs. As.
CATEGORIES:INTERMEDIA,PLANTEL SUPERIOR,PRE - INTERMEDIA,PRIMERA
END:VEVENT
BEGIN:VEVENT
DTSTART;TZID=America/Argentina/Buenos_Aires:20250830T110000
DTEND;TZID=America/Argentina/Buenos_Aires:20250830T170000
DTSTAMP:20260424T063122
CREATED:20241223T112743Z
LAST-MODIFIED:20241223T112743Z
UID:7803-1756551600-1756573200@campus.stbrendansrugbyclub.com.ar
SUMMARY:LICEO MILITAR vs. SBRC - Fecha 20
DESCRIPTION:
URL:https://campus.stbrendansrugbyclub.com.ar/evento/liceo-militar-vs-sbrc-fecha-20/
LOCATION:Liceo Militar\, Av. Bernabé Márquez 6156\, Loma Hermosa\, Pcia. de Buenos Aires\, Argentina
CATEGORIES:INTERMEDIA,PLANTEL SUPERIOR,PRE - INTERMEDIA,PRIMERA
END:VEVENT
END:VCALENDAR