BEGIN:VCALENDAR
VERSION:2.0
PRODID:-//Campus St. Brendan&#039;s Rugby - ECPv6.15.20//NONSGML v1.0//EN
CALSCALE:GREGORIAN
METHOD:PUBLISH
X-WR-CALNAME:Campus St. Brendan&#039;s Rugby
X-ORIGINAL-URL:https://campus.stbrendansrugbyclub.com.ar
X-WR-CALDESC:Eventos para Campus St. Brendan&#039;s Rugby
REFRESH-INTERVAL;VALUE=DURATION:PT1H
X-Robots-Tag:noindex
X-PUBLISHED-TTL:PT1H
BEGIN:VTIMEZONE
TZID:America/Argentina/Buenos_Aires
BEGIN:STANDARD
TZOFFSETFROM:-0300
TZOFFSETTO:-0300
TZNAME:-03
DTSTART:20250101T000000
END:STANDARD
END:VTIMEZONE
BEGIN:VEVENT
DTSTART;VALUE=DATE:20260227
DTEND;VALUE=DATE:20260303
DTSTAMP:20260423T174311
CREATED:20260209T103030Z
LAST-MODIFIED:20260225T120754Z
UID:11202-1772154000-1772413199@campus.stbrendansrugbyclub.com.ar
SUMMARY:Viernes 27 de Febrero al Domingo 1 de Marzo
DESCRIPTION:Viernes 27-2 a Domingo 1-3-2026\nVIAJAREMOS EN AUTOS PARTICULARES – 15:30 LLEGADA AL HOTEL PARA CHECK IN \nHoward Johnson by Wyndham Pergamino\nAv. Carlos Pellegrini y Ruta 188\, B2700 Pergamino\, Provincia de Buenos Aires\nhttps://maps.app.goo.gl/qJhCgM3zm1YRGUN87 \n\nLINK CLUB GIMNASIA Y ESGRIMA DE PERGAMINO RUGBY \nhttps://maps.app.goo.gl/6braUA5y3Nzgfasy7 \n\n ELEMENTOS IMPORTANTES\n\nZapatillas de correr\nBotines\nRopa de rugby para 2 entrenamientos\nRopa partido para amistoso\nVendas / cintas / Vaselina\nMuda ropa cómoda para viajar\nBotella para hidratación personal\nOff\nProtector solar\nGorro\nToalla\n\n Viernes 27-2-2026: \n\n13:00 SALIDA DESDE C.A.B.A.\n15:30 CHECK IN HOTEL – Howard Johnson by Wyndham Pergamino\n17:00 ENTRENAMIENTO + GYM EN EL CLUB\n18:30 TEAM BUILDING\n19:00 STAFF CLINICA CONM ENTRENADORES DE GEP\n21:00 CENA\n22:30 REUNION STAFF\n\nSábado 8-2-2026: \n\n8:00 DESAYUNO EN EL HOTEL\n10:00 VIDEO PLAN DE JUEGO\n12:00 CAP RUN\n12:30 ALMUERZO EN EL CLUB\n15:30 PARTIDO INTERMEDIA\n16:30 PARTIDO PRIMERA\n19:00 TERCER TIEMPO\n\n Domingo 1-3-2026: \n\n9:00 DESAYUNO EN EL HOTEL\n10:30 CHECK OUT HOTEL\n11:30 VUELTA A CASA\n\n Notas:\n\nEFECTIVO: ENTREGAR A CRIS OLIVA CUANDO LLEGAN AL HOTEL.\n Hotel y Todas las comidas (desayuno\, almuerzo y cena)\, están incluidas.\nCosto completo : AR$ 210.000.- por persona.\nCosto solo Sábado : AR$ 105.000.- por persona.
URL:https://campus.stbrendansrugbyclub.com.ar/evento/viernes-27-de-febrero-al-domingo-1-de-marzo-pergamino-2026-viaje-video-entrenamiento/
LOCATION:GyE Pergamino\, RN8 224\, Pergamino\, Provincia de Buenos Aires\, Argentina
CATEGORIES:PLANTEL SUPERIOR
ATTACH;FMTTYPE=image/jpeg:https://campus.stbrendansrugbyclub.com.ar/wp-content/uploads/2026/02/2026-02-23-SEMANA-4-PRETEMPORADA-06.jpeg
END:VEVENT
BEGIN:VEVENT
DTSTART;TZID=America/Argentina/Buenos_Aires:20260303T200000
DTEND;TZID=America/Argentina/Buenos_Aires:20260303T220000
DTSTAMP:20260423T174311
CREATED:20260209T103741Z
LAST-MODIFIED:20260209T103741Z
UID:11214-1772568000-1772575200@campus.stbrendansrugbyclub.com.ar
SUMMARY:Martes - 03/03 - FFAA - 120 min.
DESCRIPTION:
URL:https://campus.stbrendansrugbyclub.com.ar/evento/martes-03-03-ffaa-120-min/
LOCATION:SBRC – Círculo de La Fuerza Aérea\, Av. del Libertador 661\, Vicente Lopez\, Pcia. Bs. As.
CATEGORIES:PLANTEL SUPERIOR
END:VEVENT
BEGIN:VEVENT
DTSTART;TZID=America/Argentina/Buenos_Aires:20260305T200000
DTEND;TZID=America/Argentina/Buenos_Aires:20260305T220000
DTSTAMP:20260423T174311
CREATED:20260209T103828Z
LAST-MODIFIED:20260209T103828Z
UID:11216-1772740800-1772748000@campus.stbrendansrugbyclub.com.ar
SUMMARY:Jueves - 05/03 - SBRC - 120 min.
DESCRIPTION:
URL:https://campus.stbrendansrugbyclub.com.ar/evento/jueves-05-03-sbrc-120-min/
LOCATION:SBRC – Pilar del Este\, A. Palma 3150\, Villa Rosa\, Pcia. Bs. As.\, Argentina
CATEGORIES:PLANTEL SUPERIOR
END:VEVENT
BEGIN:VEVENT
DTSTART;TZID=America/Argentina/Buenos_Aires:20260307T080000
DTEND;TZID=America/Argentina/Buenos_Aires:20260307T170000
DTSTAMP:20260423T174311
CREATED:20260209T103903Z
LAST-MODIFIED:20260209T103903Z
UID:11218-1772870400-1772902800@campus.stbrendansrugbyclub.com.ar
SUMMARY:Sábado - 07/03 - SBRC - 120 min.
DESCRIPTION:
URL:https://campus.stbrendansrugbyclub.com.ar/evento/sabado-07-03-sbrc-120-min/
LOCATION:SBRC – Pilar del Este\, A. Palma 3150\, Villa Rosa\, Pcia. Bs. As.\, Argentina
CATEGORIES:PLANTEL SUPERIOR
END:VEVENT
BEGIN:VEVENT
DTSTART;TZID=America/Argentina/Buenos_Aires:20260309T200000
DTEND;TZID=America/Argentina/Buenos_Aires:20260309T223000
DTSTAMP:20260423T174311
CREATED:20260209T103939Z
LAST-MODIFIED:20260308T015033Z
UID:11220-1773086400-1773095400@campus.stbrendansrugbyclub.com.ar
SUMMARY:Lunes - 09/03 - FFAA - 75 min.
DESCRIPTION:
URL:https://campus.stbrendansrugbyclub.com.ar/evento/lunes-09-03-ffaa-75-min/
LOCATION:SBRC – Círculo de La Fuerza Aérea\, Av. del Libertador 661\, Vicente Lopez\, Pcia. Bs. As.
CATEGORIES:PLANTEL SUPERIOR
ATTACH;FMTTYPE=image/jpeg:https://campus.stbrendansrugbyclub.com.ar/wp-content/uploads/2026/03/2026-03-7-SEMANA-6-PRETEMPORADA-02.jpeg
END:VEVENT
BEGIN:VEVENT
DTSTART;TZID=America/Argentina/Buenos_Aires:20260310T200000
DTEND;TZID=America/Argentina/Buenos_Aires:20260310T220000
DTSTAMP:20260423T174311
CREATED:20260209T104015Z
LAST-MODIFIED:20260308T015048Z
UID:11222-1773172800-1773180000@campus.stbrendansrugbyclub.com.ar
SUMMARY:Martes - 10/03 - FFAA - 120 min.
DESCRIPTION:
URL:https://campus.stbrendansrugbyclub.com.ar/evento/martes-10-03-ffaa-120-min/
LOCATION:SBRC – Círculo de La Fuerza Aérea\, Av. del Libertador 661\, Vicente Lopez\, Pcia. Bs. As.
CATEGORIES:PLANTEL SUPERIOR
ATTACH;FMTTYPE=image/jpeg:https://campus.stbrendansrugbyclub.com.ar/wp-content/uploads/2026/03/2026-03-7-SEMANA-6-PRETEMPORADA-03.jpeg
END:VEVENT
BEGIN:VEVENT
DTSTART;TZID=America/Argentina/Buenos_Aires:20260312T200000
DTEND;TZID=America/Argentina/Buenos_Aires:20260312T220000
DTSTAMP:20260423T174311
CREATED:20260209T104058Z
LAST-MODIFIED:20260308T015102Z
UID:11224-1773345600-1773352800@campus.stbrendansrugbyclub.com.ar
SUMMARY:Jueves - 12/03 - SBRC - 120 min.
DESCRIPTION:
URL:https://campus.stbrendansrugbyclub.com.ar/evento/jueves-12-03-sbrc-120-min/
LOCATION:SBRC – Pilar del Este\, A. Palma 3150\, Villa Rosa\, Pcia. Bs. As.\, Argentina
CATEGORIES:PLANTEL SUPERIOR
ATTACH;FMTTYPE=image/jpeg:https://campus.stbrendansrugbyclub.com.ar/wp-content/uploads/2026/03/2026-03-7-SEMANA-6-PRETEMPORADA-04.jpeg
END:VEVENT
BEGIN:VEVENT
DTSTART;TZID=America/Argentina/Buenos_Aires:20260314T120000
DTEND;TZID=America/Argentina/Buenos_Aires:20260314T170000
DTSTAMP:20260423T174311
CREATED:20260209T104201Z
LAST-MODIFIED:20260308T015218Z
UID:11226-1773489600-1773507600@campus.stbrendansrugbyclub.com.ar
SUMMARY:Sábado - 14/03 - FECHA 1 - SBRC vs Del Sur - Local
DESCRIPTION:
URL:https://campus.stbrendansrugbyclub.com.ar/evento/sabado-14-03-fecha-1-sbrc-vs-del-sur-local/
LOCATION:SBRC – Pilar del Este\, A. Palma 3150\, Villa Rosa\, Pcia. Bs. As.\, Argentina
CATEGORIES:PLANTEL SUPERIOR
ATTACH;FMTTYPE=image/jpeg:https://campus.stbrendansrugbyclub.com.ar/wp-content/uploads/2026/03/2026-03-7-SEMANA-6-PRETEMPORADA-05.jpeg
END:VEVENT
BEGIN:VEVENT
DTSTART;VALUE=DATE:20260316
DTEND;VALUE=DATE:20260318
DTSTAMP:20260423T174311
CREATED:20260315T134544Z
LAST-MODIFIED:20260315T135217Z
UID:11630-1773622800-1773709199@campus.stbrendansrugbyclub.com.ar
SUMMARY:LUNES 16 -3 LIBRE
DESCRIPTION:
URL:https://campus.stbrendansrugbyclub.com.ar/evento/lunes-16-3-libre/
LOCATION:Pcia. Bs. As.
CATEGORIES:INTERMEDIA,PLANTEL SUPERIOR,PRE - INTERMEDIA,PRIMERA
END:VEVENT
BEGIN:VEVENT
DTSTART;TZID=America/Argentina/Buenos_Aires:20260317T200000
DTEND;TZID=America/Argentina/Buenos_Aires:20260317T220000
DTSTAMP:20260423T174311
CREATED:20260315T135104Z
LAST-MODIFIED:20260317T001632Z
UID:11632-1773777600-1773784800@campus.stbrendansrugbyclub.com.ar
SUMMARY:MARTES 17-3 SBRC 120 min.
DESCRIPTION:PREPARACION FISICA 30′ \nDESTREZAS X PUESTO 30′. \nFORWARDS: SCRUM\nBACKS: LANZAMIENTOS + DEFENSA \nRUGBY + DESTREZAS GENERALES 45′: \n\n2 EQUIPOS TRABAJAN EN CANCHA\n1 HACE 3 BLOQUES DE 5′\nATRAPAR Y PASAR / DUELO + RUCK / TACKLE
URL:https://campus.stbrendansrugbyclub.com.ar/evento/martes-17-3-sbrc-120-min/
LOCATION:SBRC – Pilar del Este\, A. Palma 3150\, Villa Rosa\, Pcia. Bs. As.\, Argentina
CATEGORIES:INTERMEDIA,PLANTEL SUPERIOR,PRE - INTERMEDIA,PRIMERA
ATTACH;FMTTYPE=image/jpeg:https://campus.stbrendansrugbyclub.com.ar/wp-content/uploads/2026/03/2026-03-16-SEMANA-2-COMPETENCIA-02.jpeg
END:VEVENT
BEGIN:VEVENT
DTSTART;TZID=America/Argentina/Buenos_Aires:20260319T200000
DTEND;TZID=America/Argentina/Buenos_Aires:20260319T220000
DTSTAMP:20260423T174311
CREATED:20260315T135211Z
LAST-MODIFIED:20260317T001644Z
UID:11634-1773950400-1773957600@campus.stbrendansrugbyclub.com.ar
SUMMARY:JUEVES 19-3 FFAA 100 min.
DESCRIPTION:PREPARACION FISICA 30′ \nDESTREZAS X PUESTOS 30′ \nFORWARDS: LINE Y MAUL\nBACKS: LANZAMIENTOS / MGJ 15′ \nRUGBY 15′
URL:https://campus.stbrendansrugbyclub.com.ar/evento/jueves-19-3-ffaa-100/
LOCATION:SBRC – Círculo de La Fuerza Aérea\, Av. del Libertador 661\, Vicente Lopez\, Pcia. Bs. As.
CATEGORIES:INTERMEDIA,PLANTEL SUPERIOR,PRE - INTERMEDIA,PRIMERA
ATTACH;FMTTYPE=image/jpeg:https://campus.stbrendansrugbyclub.com.ar/wp-content/uploads/2026/03/2026-03-16-SEMANA-2-COMPETENCIA-03.jpeg
END:VEVENT
BEGIN:VEVENT
DTSTART;TZID=America/Argentina/Buenos_Aires:20260321T110000
DTEND;TZID=America/Argentina/Buenos_Aires:20260321T170000
DTSTAMP:20260423T174311
CREATED:20260315T140036Z
LAST-MODIFIED:20260317T000820Z
UID:11639-1774090800-1774112400@campus.stbrendansrugbyclub.com.ar
SUMMARY:Sábado – 21/03 – FECHA 2 – DAOM vs SBRC
DESCRIPTION:
URL:https://campus.stbrendansrugbyclub.com.ar/evento/sabado-21-03-fecha-2-daom-vs-sbrc/
LOCATION:DAOM\, Av. Lafuente 2309\, Ciudad Autonoma De Buenos Aires\, Buenos Aires\, Argentina
CATEGORIES:INTERMEDIA,PLANTEL SUPERIOR,PRE - INTERMEDIA,PRIMERA
ATTACH;FMTTYPE=image/jpeg:https://campus.stbrendansrugbyclub.com.ar/wp-content/uploads/2026/03/2026-03-16-SEMANA-2-COMPETENCIA-04.jpeg
END:VEVENT
BEGIN:VEVENT
DTSTART;TZID=America/Argentina/Buenos_Aires:20260324T103000
DTEND;TZID=America/Argentina/Buenos_Aires:20260324T133000
DTSTAMP:20260423T174311
CREATED:20260323T150939Z
LAST-MODIFIED:20260323T153414Z
UID:11877-1774348200-1774359000@campus.stbrendansrugbyclub.com.ar
SUMMARY:MARTES 24/3 100 min. CLUB
DESCRIPTION:ACTIVACIÓN: 20′ \nDESTREZAS X PUESTOS 30′ \nForwards: SCRUM c filmación para análisis \nBacks: DEFENSA \nRUGBY + DESTREZAS GENERALES 50′ (2 equipos juegan 1 trabaja destrezas. DUELO+RUCK / TACKLE)
URL:https://campus.stbrendansrugbyclub.com.ar/evento/martes-24-3-100-min-club/
LOCATION:SBRC – Pilar del Este\, A. Palma 3150\, Villa Rosa\, Pcia. Bs. As.\, Argentina
CATEGORIES:INTERMEDIA,PLANTEL SUPERIOR,PRE - INTERMEDIA,PRIMERA
ATTACH;FMTTYPE=image/jpeg:https://campus.stbrendansrugbyclub.com.ar/wp-content/uploads/2026/03/2026-03-22-SEMANA-3-COMPETENCIA-02.jpeg
END:VEVENT
BEGIN:VEVENT
DTSTART;TZID=America/Argentina/Buenos_Aires:20260326T200000
DTEND;TZID=America/Argentina/Buenos_Aires:20260326T220000
DTSTAMP:20260423T174311
CREATED:20260323T151417Z
LAST-MODIFIED:20260323T153411Z
UID:11880-1774555200-1774562400@campus.stbrendansrugbyclub.com.ar
SUMMARY:JUEVES 26/3 90 min. FFAA
DESCRIPTION:Preparación Fisica  20 min. \nDestrezas x puesto 30 min. \nForwards: Line + Maul \nBACKS: Toma de Decisiones + lanzamientos \nMGJ 30 min.
URL:https://campus.stbrendansrugbyclub.com.ar/evento/jueves-26-3-90-min-ffaa/
LOCATION:SBRC – Pilar del Este\, A. Palma 3150\, Villa Rosa\, Pcia. Bs. As.\, Argentina
CATEGORIES:INTERMEDIA,PLANTEL SUPERIOR,PRE - INTERMEDIA,PRIMERA
ATTACH;FMTTYPE=image/jpeg:https://campus.stbrendansrugbyclub.com.ar/wp-content/uploads/2026/03/2026-03-22-SEMANA-3-COMPETENCIA-03.jpeg
END:VEVENT
BEGIN:VEVENT
DTSTART;TZID=America/Argentina/Buenos_Aires:20260328T103000
DTEND;TZID=America/Argentina/Buenos_Aires:20260328T170000
DTSTAMP:20260423T174311
CREATED:20260318T101946Z
LAST-MODIFIED:20260323T153416Z
UID:11751-1774693800-1774717200@campus.stbrendansrugbyclub.com.ar
SUMMARY:Sábado 28/3 -  FECHA 3 - SBRC vs San Carlos - Local
DESCRIPTION:
URL:https://campus.stbrendansrugbyclub.com.ar/evento/sabado-28-3-fecha-3-sbrc-vs-san-carlos-local/
LOCATION:SBRC – Pilar del Este\, A. Palma 3150\, Villa Rosa\, Pcia. Bs. As.\, Argentina
CATEGORIES:PLANTEL SUPERIOR
ATTACH;FMTTYPE=image/jpeg:https://campus.stbrendansrugbyclub.com.ar/wp-content/uploads/2026/03/2026-03-22-SEMANA-3-COMPETENCIA-04.jpeg
END:VEVENT
BEGIN:VEVENT
DTSTART;TZID=America/Argentina/Buenos_Aires:20260331T200000
DTEND;TZID=America/Argentina/Buenos_Aires:20260331T220000
DTSTAMP:20260423T174311
CREATED:20260331T120203Z
LAST-MODIFIED:20260331T120509Z
UID:12005-1774987200-1774994400@campus.stbrendansrugbyclub.com.ar
SUMMARY:MARTES 31/3 100' FFAA
DESCRIPTION:ACTIVACION 15′\nRUGBY 40′ \nPF’ 30′ \nRUGBY: \nINTERBLOQUES TOCATA Y DESTREZAS (TACKLE) SEPARADOS BACKS Y FOWARDS
URL:https://campus.stbrendansrugbyclub.com.ar/evento/martes-31-3-100-ffaa/
LOCATION:SBRC – Círculo de La Fuerza Aérea\, Av. del Libertador 661\, Vicente Lopez\, Pcia. Bs. As.
CATEGORIES:PLANTEL SUPERIOR
ATTACH;FMTTYPE=image/jpeg:https://campus.stbrendansrugbyclub.com.ar/wp-content/uploads/2026/03/2026-03-30-SEMANA-4-FECHA-LIBRE-02.jpeg
END:VEVENT
END:VCALENDAR