BEGIN:VCALENDAR
VERSION:2.0
PRODID:-//Campus St. Brendan&#039;s Rugby - ECPv6.15.20//NONSGML v1.0//EN
CALSCALE:GREGORIAN
METHOD:PUBLISH
X-WR-CALNAME:Campus St. Brendan&#039;s Rugby
X-ORIGINAL-URL:https://campus.stbrendansrugbyclub.com.ar
X-WR-CALDESC:Eventos para Campus St. Brendan&#039;s Rugby
REFRESH-INTERVAL;VALUE=DURATION:PT1H
X-Robots-Tag:noindex
X-PUBLISHED-TTL:PT1H
BEGIN:VTIMEZONE
TZID:America/Argentina/Buenos_Aires
BEGIN:STANDARD
TZOFFSETFROM:-0300
TZOFFSETTO:-0300
TZNAME:-03
DTSTART:20240101T000000
END:STANDARD
END:VTIMEZONE
BEGIN:VEVENT
DTSTART;TZID=America/Argentina/Buenos_Aires:20251103T210000
DTEND;TZID=America/Argentina/Buenos_Aires:20251103T220000
DTSTAMP:20260424T015635
CREATED:20251025T143337Z
LAST-MODIFIED:20251025T143401Z
UID:10811-1762203600-1762207200@campus.stbrendansrugbyclub.com.ar
SUMMARY:SIALAMALUCA
DESCRIPTION:
URL:https://campus.stbrendansrugbyclub.com.ar/evento/sialamaluca/
LOCATION:SIALAMALUCA\, Pje. Pinto 4462\, Ciudad Autonoma De Buenos Aires\, BUENOS AIRES\, C1429APZ\, Argentina
CATEGORIES:INTERMEDIA,PLANTEL SUPERIOR,PRE - INTERMEDIA,PRIMERA
END:VEVENT
BEGIN:VEVENT
DTSTART;TZID=America/Argentina/Buenos_Aires:20251104T200000
DTEND;TZID=America/Argentina/Buenos_Aires:20251104T210000
DTSTAMP:20260424T015635
CREATED:20251025T144400Z
LAST-MODIFIED:20251025T144400Z
UID:10827-1762286400-1762290000@campus.stbrendansrugbyclub.com.ar
SUMMARY:FUERZA AEREA
DESCRIPTION:
URL:https://campus.stbrendansrugbyclub.com.ar/evento/fuerza-aerea/
LOCATION:SBRC – Círculo de La Fuerza Aérea\, Av. del Libertador 661\, Vicente Lopez\, Pcia. Bs. As.
CATEGORIES:INTERMEDIA,PLANTEL SUPERIOR,PRE - INTERMEDIA,PRIMERA
END:VEVENT
BEGIN:VEVENT
DTSTART;TZID=America/Argentina/Buenos_Aires:20251106T200000
DTEND;TZID=America/Argentina/Buenos_Aires:20251106T210000
DTSTAMP:20260424T015635
CREATED:20251025T145450Z
LAST-MODIFIED:20251025T145450Z
UID:10835-1762459200-1762462800@campus.stbrendansrugbyclub.com.ar
SUMMARY:FUERZA AEREA
DESCRIPTION:
URL:https://campus.stbrendansrugbyclub.com.ar/evento/fuerza-aerea-5/
LOCATION:SIALAMALUCA\, Pje. Pinto 4462\, Ciudad Autonoma De Buenos Aires\, BUENOS AIRES\, C1429APZ\, Argentina
CATEGORIES:INTERMEDIA,PLANTEL SUPERIOR,PRE - INTERMEDIA,PRIMERA
END:VEVENT
BEGIN:VEVENT
DTSTART;TZID=America/Argentina/Buenos_Aires:20251110T210000
DTEND;TZID=America/Argentina/Buenos_Aires:20251110T220000
DTSTAMP:20260424T015635
CREATED:20251025T143642Z
LAST-MODIFIED:20251025T143642Z
UID:10815-1762808400-1762812000@campus.stbrendansrugbyclub.com.ar
SUMMARY:SIALAMALUCA
DESCRIPTION:
URL:https://campus.stbrendansrugbyclub.com.ar/evento/sialamaluca-2/
LOCATION:SIALAMALUCA\, Pje. Pinto 4462\, Ciudad Autonoma De Buenos Aires\, BUENOS AIRES\, C1429APZ\, Argentina
CATEGORIES:INTERMEDIA,PLANTEL SUPERIOR,PRE - INTERMEDIA,PRIMERA
END:VEVENT
BEGIN:VEVENT
DTSTART;TZID=America/Argentina/Buenos_Aires:20251111T200000
DTEND;TZID=America/Argentina/Buenos_Aires:20251111T210000
DTSTAMP:20260424T015635
CREATED:20251025T144440Z
LAST-MODIFIED:20251025T144440Z
UID:10829-1762891200-1762894800@campus.stbrendansrugbyclub.com.ar
SUMMARY:FUERZA AEREA
DESCRIPTION:
URL:https://campus.stbrendansrugbyclub.com.ar/evento/fuerza-aerea-2/
LOCATION:SBRC – Círculo de La Fuerza Aérea\, Av. del Libertador 661\, Vicente Lopez\, Pcia. Bs. As.
CATEGORIES:INTERMEDIA,PLANTEL SUPERIOR,PRE - INTERMEDIA,PRIMERA
END:VEVENT
BEGIN:VEVENT
DTSTART;TZID=America/Argentina/Buenos_Aires:20251113T200000
DTEND;TZID=America/Argentina/Buenos_Aires:20251113T210000
DTSTAMP:20260424T015635
CREATED:20251025T145532Z
LAST-MODIFIED:20251025T145532Z
UID:10837-1763064000-1763067600@campus.stbrendansrugbyclub.com.ar
SUMMARY:FUERZA AEREA
DESCRIPTION:
URL:https://campus.stbrendansrugbyclub.com.ar/evento/fuerza-aerea-6/
LOCATION:SIALAMALUCA\, Pje. Pinto 4462\, Ciudad Autonoma De Buenos Aires\, BUENOS AIRES\, C1429APZ\, Argentina
CATEGORIES:INTERMEDIA,PLANTEL SUPERIOR,PRE - INTERMEDIA,PRIMERA
END:VEVENT
BEGIN:VEVENT
DTSTART;VALUE=DATE:20251114
DTEND;VALUE=DATE:20251118
DTSTAMP:20260424T015635
CREATED:20251025T154005Z
LAST-MODIFIED:20251025T155548Z
UID:10855-1763082000-1763341199@campus.stbrendansrugbyclub.com.ar
SUMMARY:MIRAMAR 2025
DESCRIPTION:LINK PARA CONFIRMAR ASISTENCIA \nLINK DE PAGO \nTodas las actividades dependen del clima y tendremos alternativas.\nViernes 14 de noviembre\n8 a 14/15 hs Viaje ida – Bondi sale de Pilar del Este y de CABA.\n12/13 hs Vianda en el bondi\n14/15 hs aprox. llegada al hotel recepción y distribución del grupo\n15.30 hs juego playa o Sandboard en médano.\n17 hs Merienda en playa.\n20 hs Cena Hotel. Turno Infantiles/Juveniles con Familias.\n22 hs Cena Plantel Superior. \nSábado 15 de noviembre\n8 hs Desayuno.\n10 hs Miramar Rugby Club\, encuentro de infantiles/Juveniles.\n12 hs 3T en el club. Miramar Rugby Club.\n1 hs Almuerzo en el Balneario para Familias y Plantel Superior.\n15 hs Surf + Juego en playa.\n17.30 hs Merienda en Balneario.\n19 hs Vuelta al Hotel.\n20 Cena infantiles/Juveniles.\n21.30 Cena Hotel asado\, todos juntos Plantel Superior + Familias. \nDomingo 16 de noviembre\n8 hs Desayuno.\n9.30 hs Treking en el Vivero.\n12. Vuelta al Hotel y almuerzo + vianda. Cierre Gira.\n13/ 21/22 hs Viaje de vuelta.\nActividades alternativas para Juveniles o Plantel Superior: FutGolf.
URL:https://campus.stbrendansrugbyclub.com.ar/evento/miramar-2025/
LOCATION:Hotel Puerta del Bosque\, Av 12 entre 47 y 49\, Miramar\, Provincia de Buenos Aires\, B7607\, Argentina
CATEGORIES:INTERMEDIA,PLANTEL SUPERIOR,PRE - INTERMEDIA,PRIMERA
ATTACH;FMTTYPE=image/png:https://campus.stbrendansrugbyclub.com.ar/wp-content/uploads/2025/10/GIRA-MIRAMAR-2025-BANNER.png
END:VEVENT
BEGIN:VEVENT
DTSTART;TZID=America/Argentina/Buenos_Aires:20251115T090000
DTEND;TZID=America/Argentina/Buenos_Aires:20251115T170000
DTSTAMP:20260424T015635
CREATED:20251025T150910Z
LAST-MODIFIED:20251025T150910Z
UID:10843-1763197200-1763226000@campus.stbrendansrugbyclub.com.ar
SUMMARY:SEVEN URBA
DESCRIPTION:
URL:https://campus.stbrendansrugbyclub.com.ar/evento/seven-urba/
LOCATION:Pcia. Bs. As.
CATEGORIES:INTERMEDIA,PLANTEL SUPERIOR,PRE - INTERMEDIA,PRIMERA
END:VEVENT
BEGIN:VEVENT
DTSTART;TZID=America/Argentina/Buenos_Aires:20251116T100000
DTEND;TZID=America/Argentina/Buenos_Aires:20251116T170000
DTSTAMP:20260424T015635
CREATED:20251025T150955Z
LAST-MODIFIED:20251025T151023Z
UID:10845-1763287200-1763312400@campus.stbrendansrugbyclub.com.ar
SUMMARY:SEVEN URBA
DESCRIPTION:
URL:https://campus.stbrendansrugbyclub.com.ar/evento/seven-urba-2/
LOCATION:Pcia. Bs. As.
CATEGORIES:INTERMEDIA,PLANTEL SUPERIOR,PRE - INTERMEDIA,PRIMERA
END:VEVENT
BEGIN:VEVENT
DTSTART;TZID=America/Argentina/Buenos_Aires:20251117T210000
DTEND;TZID=America/Argentina/Buenos_Aires:20251117T220000
DTSTAMP:20260424T015635
CREATED:20251025T143734Z
LAST-MODIFIED:20251025T143734Z
UID:10817-1763413200-1763416800@campus.stbrendansrugbyclub.com.ar
SUMMARY:SIALAMALUCA
DESCRIPTION:
URL:https://campus.stbrendansrugbyclub.com.ar/evento/sialamaluca-3/
LOCATION:SIALAMALUCA\, Pje. Pinto 4462\, Ciudad Autonoma De Buenos Aires\, BUENOS AIRES\, C1429APZ\, Argentina
CATEGORIES:INTERMEDIA,PLANTEL SUPERIOR,PRE - INTERMEDIA,PRIMERA
END:VEVENT
BEGIN:VEVENT
DTSTART;TZID=America/Argentina/Buenos_Aires:20251118T200000
DTEND;TZID=America/Argentina/Buenos_Aires:20251118T210000
DTSTAMP:20260424T015635
CREATED:20251025T144524Z
LAST-MODIFIED:20251025T144524Z
UID:10831-1763496000-1763499600@campus.stbrendansrugbyclub.com.ar
SUMMARY:FUERZA AEREA
DESCRIPTION:
URL:https://campus.stbrendansrugbyclub.com.ar/evento/fuerza-aerea-3/
LOCATION:SBRC – Círculo de La Fuerza Aérea\, Av. del Libertador 661\, Vicente Lopez\, Pcia. Bs. As.
CATEGORIES:INTERMEDIA,PLANTEL SUPERIOR,PRE - INTERMEDIA,PRIMERA
END:VEVENT
BEGIN:VEVENT
DTSTART;TZID=America/Argentina/Buenos_Aires:20251120T200000
DTEND;TZID=America/Argentina/Buenos_Aires:20251120T210000
DTSTAMP:20260424T015635
CREATED:20251025T145621Z
LAST-MODIFIED:20251025T145621Z
UID:10839-1763668800-1763672400@campus.stbrendansrugbyclub.com.ar
SUMMARY:FUERZA AEREA
DESCRIPTION:
URL:https://campus.stbrendansrugbyclub.com.ar/evento/fuerza-aerea-7/
LOCATION:SIALAMALUCA\, Pje. Pinto 4462\, Ciudad Autonoma De Buenos Aires\, BUENOS AIRES\, C1429APZ\, Argentina
CATEGORIES:INTERMEDIA,PLANTEL SUPERIOR,PRE - INTERMEDIA,PRIMERA
END:VEVENT
BEGIN:VEVENT
DTSTART;TZID=America/Argentina/Buenos_Aires:20251124T210000
DTEND;TZID=America/Argentina/Buenos_Aires:20251124T220000
DTSTAMP:20260424T015635
CREATED:20251025T143824Z
LAST-MODIFIED:20251025T143824Z
UID:10819-1764018000-1764021600@campus.stbrendansrugbyclub.com.ar
SUMMARY:SIALAMALUCA
DESCRIPTION:
URL:https://campus.stbrendansrugbyclub.com.ar/evento/sialamaluca-4/
LOCATION:SIALAMALUCA\, Pje. Pinto 4462\, Ciudad Autonoma De Buenos Aires\, BUENOS AIRES\, C1429APZ\, Argentina
CATEGORIES:INTERMEDIA,PLANTEL SUPERIOR,PRE - INTERMEDIA,PRIMERA
END:VEVENT
BEGIN:VEVENT
DTSTART;TZID=America/Argentina/Buenos_Aires:20251125T200000
DTEND;TZID=America/Argentina/Buenos_Aires:20251125T210000
DTSTAMP:20260424T015635
CREATED:20251025T144604Z
LAST-MODIFIED:20251025T144604Z
UID:10833-1764100800-1764104400@campus.stbrendansrugbyclub.com.ar
SUMMARY:FUERZA AEREA
DESCRIPTION:
URL:https://campus.stbrendansrugbyclub.com.ar/evento/fuerza-aerea-4/
LOCATION:SBRC – Círculo de La Fuerza Aérea\, Av. del Libertador 661\, Vicente Lopez\, Pcia. Bs. As.
CATEGORIES:INTERMEDIA,PLANTEL SUPERIOR,PRE - INTERMEDIA,PRIMERA
END:VEVENT
BEGIN:VEVENT
DTSTART;TZID=America/Argentina/Buenos_Aires:20251127T200000
DTEND;TZID=America/Argentina/Buenos_Aires:20251127T210000
DTSTAMP:20260424T015635
CREATED:20251025T145657Z
LAST-MODIFIED:20251025T145657Z
UID:10841-1764273600-1764277200@campus.stbrendansrugbyclub.com.ar
SUMMARY:FUERZA AEREA
DESCRIPTION:
URL:https://campus.stbrendansrugbyclub.com.ar/evento/fuerza-aerea-8/
LOCATION:SIALAMALUCA\, Pje. Pinto 4462\, Ciudad Autonoma De Buenos Aires\, BUENOS AIRES\, C1429APZ\, Argentina
CATEGORIES:INTERMEDIA,PLANTEL SUPERIOR,PRE - INTERMEDIA,PRIMERA
END:VEVENT
END:VCALENDAR