BEGIN:VCALENDAR
VERSION:2.0
PRODID:-//Campus St. Brendan&#039;s Rugby - ECPv6.15.20//NONSGML v1.0//EN
CALSCALE:GREGORIAN
METHOD:PUBLISH
X-ORIGINAL-URL:https://campus.stbrendansrugbyclub.com.ar
X-WR-CALDESC:Eventos para Campus St. Brendan&#039;s Rugby
REFRESH-INTERVAL;VALUE=DURATION:PT1H
X-Robots-Tag:noindex
X-PUBLISHED-TTL:PT1H
BEGIN:VTIMEZONE
TZID:America/Argentina/Buenos_Aires
BEGIN:STANDARD
TZOFFSETFROM:-0300
TZOFFSETTO:-0300
TZNAME:-03
DTSTART:20250101T000000
END:STANDARD
END:VTIMEZONE
BEGIN:VEVENT
DTSTART;VALUE=DATE:20260316
DTEND;VALUE=DATE:20260318
DTSTAMP:20260423T192841
CREATED:20260315T134544Z
LAST-MODIFIED:20260315T135217Z
UID:11630-1773622800-1773709199@campus.stbrendansrugbyclub.com.ar
SUMMARY:LUNES 16 -3 LIBRE
DESCRIPTION:
URL:https://campus.stbrendansrugbyclub.com.ar/evento/lunes-16-3-libre/
LOCATION:Pcia. Bs. As.
CATEGORIES:INTERMEDIA,PLANTEL SUPERIOR,PRE - INTERMEDIA,PRIMERA
END:VEVENT
BEGIN:VEVENT
DTSTART;TZID=America/Argentina/Buenos_Aires:20260317T200000
DTEND;TZID=America/Argentina/Buenos_Aires:20260317T220000
DTSTAMP:20260423T192841
CREATED:20260315T135104Z
LAST-MODIFIED:20260317T001632Z
UID:11632-1773777600-1773784800@campus.stbrendansrugbyclub.com.ar
SUMMARY:MARTES 17-3 SBRC 120 min.
DESCRIPTION:PREPARACION FISICA 30′ \nDESTREZAS X PUESTO 30′. \nFORWARDS: SCRUM\nBACKS: LANZAMIENTOS + DEFENSA \nRUGBY + DESTREZAS GENERALES 45′: \n\n2 EQUIPOS TRABAJAN EN CANCHA\n1 HACE 3 BLOQUES DE 5′\nATRAPAR Y PASAR / DUELO + RUCK / TACKLE
URL:https://campus.stbrendansrugbyclub.com.ar/evento/martes-17-3-sbrc-120-min/
LOCATION:SBRC – Pilar del Este\, A. Palma 3150\, Villa Rosa\, Pcia. Bs. As.\, Argentina
CATEGORIES:INTERMEDIA,PLANTEL SUPERIOR,PRE - INTERMEDIA,PRIMERA
ATTACH;FMTTYPE=image/jpeg:https://campus.stbrendansrugbyclub.com.ar/wp-content/uploads/2026/03/2026-03-16-SEMANA-2-COMPETENCIA-02.jpeg
END:VEVENT
BEGIN:VEVENT
DTSTART;TZID=America/Argentina/Buenos_Aires:20260319T200000
DTEND;TZID=America/Argentina/Buenos_Aires:20260319T220000
DTSTAMP:20260423T192841
CREATED:20260315T135211Z
LAST-MODIFIED:20260317T001644Z
UID:11634-1773950400-1773957600@campus.stbrendansrugbyclub.com.ar
SUMMARY:JUEVES 19-3 FFAA 100 min.
DESCRIPTION:PREPARACION FISICA 30′ \nDESTREZAS X PUESTOS 30′ \nFORWARDS: LINE Y MAUL\nBACKS: LANZAMIENTOS / MGJ 15′ \nRUGBY 15′
URL:https://campus.stbrendansrugbyclub.com.ar/evento/jueves-19-3-ffaa-100/
LOCATION:SBRC – Círculo de La Fuerza Aérea\, Av. del Libertador 661\, Vicente Lopez\, Pcia. Bs. As.
CATEGORIES:INTERMEDIA,PLANTEL SUPERIOR,PRE - INTERMEDIA,PRIMERA
ATTACH;FMTTYPE=image/jpeg:https://campus.stbrendansrugbyclub.com.ar/wp-content/uploads/2026/03/2026-03-16-SEMANA-2-COMPETENCIA-03.jpeg
END:VEVENT
BEGIN:VEVENT
DTSTART;TZID=America/Argentina/Buenos_Aires:20260321T110000
DTEND;TZID=America/Argentina/Buenos_Aires:20260321T170000
DTSTAMP:20260423T192841
CREATED:20260315T140036Z
LAST-MODIFIED:20260317T000820Z
UID:11639-1774090800-1774112400@campus.stbrendansrugbyclub.com.ar
SUMMARY:Sábado – 21/03 – FECHA 2 – DAOM vs SBRC
DESCRIPTION:
URL:https://campus.stbrendansrugbyclub.com.ar/evento/sabado-21-03-fecha-2-daom-vs-sbrc/
LOCATION:DAOM\, Av. Lafuente 2309\, Ciudad Autonoma De Buenos Aires\, Buenos Aires\, Argentina
CATEGORIES:INTERMEDIA,PLANTEL SUPERIOR,PRE - INTERMEDIA,PRIMERA
ATTACH;FMTTYPE=image/jpeg:https://campus.stbrendansrugbyclub.com.ar/wp-content/uploads/2026/03/2026-03-16-SEMANA-2-COMPETENCIA-04.jpeg
END:VEVENT
BEGIN:VEVENT
DTSTART;TZID=America/Argentina/Buenos_Aires:20260324T103000
DTEND;TZID=America/Argentina/Buenos_Aires:20260324T133000
DTSTAMP:20260423T192841
CREATED:20260323T150939Z
LAST-MODIFIED:20260323T153414Z
UID:11877-1774348200-1774359000@campus.stbrendansrugbyclub.com.ar
SUMMARY:MARTES 24/3 100 min. CLUB
DESCRIPTION:ACTIVACIÓN: 20′ \nDESTREZAS X PUESTOS 30′ \nForwards: SCRUM c filmación para análisis \nBacks: DEFENSA \nRUGBY + DESTREZAS GENERALES 50′ (2 equipos juegan 1 trabaja destrezas. DUELO+RUCK / TACKLE)
URL:https://campus.stbrendansrugbyclub.com.ar/evento/martes-24-3-100-min-club/
LOCATION:SBRC – Pilar del Este\, A. Palma 3150\, Villa Rosa\, Pcia. Bs. As.\, Argentina
CATEGORIES:INTERMEDIA,PLANTEL SUPERIOR,PRE - INTERMEDIA,PRIMERA
ATTACH;FMTTYPE=image/jpeg:https://campus.stbrendansrugbyclub.com.ar/wp-content/uploads/2026/03/2026-03-22-SEMANA-3-COMPETENCIA-02.jpeg
END:VEVENT
BEGIN:VEVENT
DTSTART;TZID=America/Argentina/Buenos_Aires:20260326T200000
DTEND;TZID=America/Argentina/Buenos_Aires:20260326T220000
DTSTAMP:20260423T192841
CREATED:20260323T151417Z
LAST-MODIFIED:20260323T153411Z
UID:11880-1774555200-1774562400@campus.stbrendansrugbyclub.com.ar
SUMMARY:JUEVES 26/3 90 min. FFAA
DESCRIPTION:Preparación Fisica  20 min. \nDestrezas x puesto 30 min. \nForwards: Line + Maul \nBACKS: Toma de Decisiones + lanzamientos \nMGJ 30 min.
URL:https://campus.stbrendansrugbyclub.com.ar/evento/jueves-26-3-90-min-ffaa/
LOCATION:SBRC – Pilar del Este\, A. Palma 3150\, Villa Rosa\, Pcia. Bs. As.\, Argentina
CATEGORIES:INTERMEDIA,PLANTEL SUPERIOR,PRE - INTERMEDIA,PRIMERA
ATTACH;FMTTYPE=image/jpeg:https://campus.stbrendansrugbyclub.com.ar/wp-content/uploads/2026/03/2026-03-22-SEMANA-3-COMPETENCIA-03.jpeg
END:VEVENT
END:VCALENDAR