BEGIN:VCALENDAR
VERSION:2.0
PRODID:-//Campus St. Brendan&#039;s Rugby - ECPv6.15.20//NONSGML v1.0//EN
CALSCALE:GREGORIAN
METHOD:PUBLISH
X-WR-CALNAME:Campus St. Brendan&#039;s Rugby
X-ORIGINAL-URL:https://campus.stbrendansrugbyclub.com.ar
X-WR-CALDESC:Eventos para Campus St. Brendan&#039;s Rugby
REFRESH-INTERVAL;VALUE=DURATION:PT1H
X-Robots-Tag:noindex
X-PUBLISHED-TTL:PT1H
BEGIN:VTIMEZONE
TZID:America/Argentina/Buenos_Aires
BEGIN:STANDARD
TZOFFSETFROM:-0300
TZOFFSETTO:-0300
TZNAME:-03
DTSTART:20250101T000000
END:STANDARD
END:VTIMEZONE
BEGIN:VEVENT
DTSTART;TZID=America/Argentina/Buenos_Aires:20260606T103000
DTEND;TZID=America/Argentina/Buenos_Aires:20260606T170000
DTSTAMP:20260423T210211
CREATED:20260318T102749Z
LAST-MODIFIED:20260318T102749Z
UID:11785-1780741800-1780765200@campus.stbrendansrugbyclub.com.ar
SUMMARY:Sábado 6/6 - FECHA 10 - SBRC vs Lujan - Local
DESCRIPTION:
URL:https://campus.stbrendansrugbyclub.com.ar/evento/sabado-6-6-fecha-10-sbrc-vs-lujan-local/
LOCATION:SBRC – Pilar del Este\, A. Palma 3150\, Villa Rosa\, Pcia. Bs. As.\, Argentina
CATEGORIES:PLANTEL SUPERIOR
ATTACH;FMTTYPE=image/png:https://campus.stbrendansrugbyclub.com.ar/wp-content/uploads/2026/03/FECHA-10-6_6-PS-2026.png
END:VEVENT
BEGIN:VEVENT
DTSTART;TZID=America/Argentina/Buenos_Aires:20260613T110000
DTEND;TZID=America/Argentina/Buenos_Aires:20260613T170000
DTSTAMP:20260423T210211
CREATED:20260318T102949Z
LAST-MODIFIED:20260318T103201Z
UID:11789-1781348400-1781370000@campus.stbrendansrugbyclub.com.ar
SUMMARY:Sábado 13/-6 - FECHA 11 - Los Molinos vs SBRC - Visita
DESCRIPTION:
URL:https://campus.stbrendansrugbyclub.com.ar/evento/sabado-13-6-fecha-11-los-molinos-vs-sbrc-visita/
LOCATION:LOS MOLINOS\, Mariano Acosta 3350\, Presidente Derqui\, Provincia de Buenos Aires\, B1635CUN\, Argentina
CATEGORIES:PLANTEL SUPERIOR
ATTACH;FMTTYPE=image/png:https://campus.stbrendansrugbyclub.com.ar/wp-content/uploads/2026/03/FECHA-11-13_6-PS-2026.png
END:VEVENT
BEGIN:VEVENT
DTSTART;TZID=America/Argentina/Buenos_Aires:20260620T103000
DTEND;TZID=America/Argentina/Buenos_Aires:20260620T170000
DTSTAMP:20260423T210211
CREATED:20260318T103245Z
LAST-MODIFIED:20260318T103245Z
UID:11793-1781951400-1781974800@campus.stbrendansrugbyclub.com.ar
SUMMARY:Sábado 20/6 - FECHA 12 - SBRC vs Centro Naval - Local
DESCRIPTION:
URL:https://campus.stbrendansrugbyclub.com.ar/evento/sabado-20-6-fecha-12-sbrc-vs-centro-naval-local/
LOCATION:SBRC – Pilar del Este\, A. Palma 3150\, Villa Rosa\, Pcia. Bs. As.\, Argentina
CATEGORIES:PLANTEL SUPERIOR
ATTACH;FMTTYPE=image/png:https://campus.stbrendansrugbyclub.com.ar/wp-content/uploads/2026/03/FECHA-12-20_6-PS-2026.png
END:VEVENT
BEGIN:VEVENT
DTSTART;TZID=America/Argentina/Buenos_Aires:20260704T110000
DTEND;TZID=America/Argentina/Buenos_Aires:20260704T170000
DTSTAMP:20260423T210211
CREATED:20260318T103329Z
LAST-MODIFIED:20260318T103329Z
UID:11796-1783162800-1783184400@campus.stbrendansrugbyclub.com.ar
SUMMARY:Sábado 4/7 - FECHA 13 - CASA DE PADUA VS SBRC - Visita
DESCRIPTION:
URL:https://campus.stbrendansrugbyclub.com.ar/evento/sabado-4-7-fecha-13-casa-de-padua-vs-sbrc-visita/
LOCATION:CASA de Padua\, Antezana 3101\, Merlo\, Pcia. de Buenos Aires\, B1722\, Argentina
CATEGORIES:PLANTEL SUPERIOR
ATTACH;FMTTYPE=image/png:https://campus.stbrendansrugbyclub.com.ar/wp-content/uploads/2026/03/FECHA-13-47-PS-2026.png
END:VEVENT
END:VCALENDAR