BEGIN:VCALENDAR
VERSION:2.0
PRODID:-//Campus St. Brendan&#039;s Rugby - ECPv6.15.20//NONSGML v1.0//EN
CALSCALE:GREGORIAN
METHOD:PUBLISH
X-ORIGINAL-URL:https://campus.stbrendansrugbyclub.com.ar
X-WR-CALDESC:Eventos para Campus St. Brendan&#039;s Rugby
REFRESH-INTERVAL;VALUE=DURATION:PT1H
X-Robots-Tag:noindex
X-PUBLISHED-TTL:PT1H
BEGIN:VTIMEZONE
TZID:America/Argentina/Buenos_Aires
BEGIN:STANDARD
TZOFFSETFROM:-0300
TZOFFSETTO:-0300
TZNAME:-03
DTSTART:20250101T000000
END:STANDARD
END:VTIMEZONE
BEGIN:VEVENT
DTSTART;VALUE=DATE:20260402
DTEND;VALUE=DATE:20260404
DTSTAMP:20260423T174301
CREATED:20260331T120254Z
LAST-MODIFIED:20260331T120444Z
UID:12007-1775091600-1775177999@campus.stbrendansrugbyclub.com.ar
SUMMARY:JUEVES 2/4 ACONDICIONAMIENTO INDIVIDUAL
DESCRIPTION:
URL:https://campus.stbrendansrugbyclub.com.ar/evento/jueves-2-4-acondicionamiento-individual/
LOCATION:SBRC – Pilar del Este\, A. Palma 3150\, Villa Rosa\, Pcia. Bs. As.\, Argentina
CATEGORIES:PLANTEL SUPERIOR
ATTACH;FMTTYPE=image/jpeg:https://campus.stbrendansrugbyclub.com.ar/wp-content/uploads/2026/03/2026-03-30-SEMANA-4-FECHA-LIBRE-03.jpeg
END:VEVENT
BEGIN:VEVENT
DTSTART;VALUE=DATE:20260404
DTEND;VALUE=DATE:20260406
DTSTAMP:20260423T174301
CREATED:20260331T120329Z
LAST-MODIFIED:20260331T120453Z
UID:12009-1775264400-1775350799@campus.stbrendansrugbyclub.com.ar
SUMMARY:JUEVES 2/4 ACONDICIONAMIENTO INDIVIDUAL
DESCRIPTION:
URL:https://campus.stbrendansrugbyclub.com.ar/evento/jueves-2-4-acondicionamiento-individual-2/
LOCATION:SBRC – Pilar del Este\, A. Palma 3150\, Villa Rosa\, Pcia. Bs. As.\, Argentina
CATEGORIES:PLANTEL SUPERIOR
ATTACH;FMTTYPE=image/jpeg:https://campus.stbrendansrugbyclub.com.ar/wp-content/uploads/2026/03/2026-03-30-SEMANA-4-FECHA-LIBRE-03.jpeg
END:VEVENT
BEGIN:VEVENT
DTSTART;TZID=America/Argentina/Buenos_Aires:20260406T190000
DTEND;TZID=America/Argentina/Buenos_Aires:20260406T210000
DTSTAMP:20260423T174301
CREATED:20260405T152455Z
LAST-MODIFIED:20260405T153121Z
UID:12034-1775502000-1775509200@campus.stbrendansrugbyclub.com.ar
SUMMARY:LUNES 6/4
DESCRIPTION:FOWARDS: SCRUM CON MANUEL BELGRANO SEDE C.LARRALDE 20 HS \nBACKS: USO DEL PIE FFAA 19 HS \nSUJETO A LLUVIA
URL:https://campus.stbrendansrugbyclub.com.ar/evento/lunes-6-4/
LOCATION:SBRC – Círculo de La Fuerza Aérea\, Av. del Libertador 661\, Vicente Lopez\, Pcia. Bs. As.
CATEGORIES:PLANTEL SUPERIOR
ATTACH;FMTTYPE=image/jpeg:https://campus.stbrendansrugbyclub.com.ar/wp-content/uploads/2026/04/2026-04-05-SEMANA-5-FECHA-4-02.jpeg
END:VEVENT
BEGIN:VEVENT
DTSTART;TZID=America/Argentina/Buenos_Aires:20260407T200000
DTEND;TZID=America/Argentina/Buenos_Aires:20260407T220000
DTSTAMP:20260423T174301
CREATED:20260405T152727Z
LAST-MODIFIED:20260405T152826Z
UID:12036-1775592000-1775599200@campus.stbrendansrugbyclub.com.ar
SUMMARY:MARTES 7/4 FFAA 20 HS 120 (SUJETO A LLUVIA: OPCION B CLUB)
DESCRIPTION:PREPARACION FISICA: 30′ \nDESTREZAS X PUESTOS 20′ \n\nFORWARDS: SCRUM\nBACKS: DEFENSA\n\nDESTREZAS GENERALES + RUGBY 60 : \nUN EQUIPO DESTREZAS 3 BLOQUES DE 6′ LOS OTROS DOS RUGBY. \n\nATRAPAR Y PASAR\nDUELO + RUCK\nTACKLE
URL:https://campus.stbrendansrugbyclub.com.ar/evento/martes-7-4-ffaa-20-hs-120-sujeto-a-lluvia-opcion-b-club/
LOCATION:SBRC – Círculo de La Fuerza Aérea\, Av. del Libertador 661\, Vicente Lopez\, Pcia. Bs. As.
CATEGORIES:PLANTEL SUPERIOR
ATTACH;FMTTYPE=image/jpeg:https://campus.stbrendansrugbyclub.com.ar/wp-content/uploads/2026/04/2026-04-05-SEMANA-5-FECHA-4-03.jpeg
END:VEVENT
BEGIN:VEVENT
DTSTART;TZID=America/Argentina/Buenos_Aires:20260409T200000
DTEND;TZID=America/Argentina/Buenos_Aires:20260409T220000
DTSTAMP:20260423T174301
CREATED:20260405T152957Z
LAST-MODIFIED:20260405T152957Z
UID:12038-1775764800-1775772000@campus.stbrendansrugbyclub.com.ar
SUMMARY:JUEVES 9/4 FFAA 20 HS. 120'
DESCRIPTION:PREPARACION FISICA: 30′ \nDESTREZAS X PUESTO:30′ \n\nFOWARDS: LINE Y MAUL\nBACKS: SEMI ATAQUES + LANZAMIENTOSD (DEFENSA)\n\nDESTREZAS GENERALES 15′: \n\nDUELO + RUCK\nDEFENSA + TACKLE\n\nMGJ 15′\nRUGBY 15′
URL:https://campus.stbrendansrugbyclub.com.ar/evento/jueves-9-4-ffaa-20-hs-120/
LOCATION:SBRC – Círculo de La Fuerza Aérea\, Av. del Libertador 661\, Vicente Lopez\, Pcia. Bs. As.
CATEGORIES:PLANTEL SUPERIOR
ATTACH;FMTTYPE=image/jpeg:https://campus.stbrendansrugbyclub.com.ar/wp-content/uploads/2026/04/2026-04-05-SEMANA-5-FECHA-4-04.jpeg
END:VEVENT
BEGIN:VEVENT
DTSTART;TZID=America/Argentina/Buenos_Aires:20260411T093000
DTEND;TZID=America/Argentina/Buenos_Aires:20260411T123000
DTSTAMP:20260423T174301
CREATED:20260318T090038Z
LAST-MODIFIED:20260318T090038Z
UID:11713-1775899800-1775910600@campus.stbrendansrugbyclub.com.ar
SUMMARY:ENCUENTRO INFANTILES EN VIRREYES
DESCRIPTION:
URL:https://campus.stbrendansrugbyclub.com.ar/evento/encuentro-infantiles-en-virreyes/
LOCATION:Virreyes\, Av. Hipólito Yrigoyen 6702\, Victoria\, Provincia de Buenos Aires\, B1645\, Argentina
CATEGORIES:INFANTILES
ATTACH;FMTTYPE=image/png:https://campus.stbrendansrugbyclub.com.ar/wp-content/uploads/2026/03/2026-04-11-ENCUENTRO-INFANTILES-VIRREYES.png
END:VEVENT
BEGIN:VEVENT
DTSTART;TZID=America/Argentina/Buenos_Aires:20260411T110000
DTEND;TZID=America/Argentina/Buenos_Aires:20260411T170000
DTSTAMP:20260423T174301
CREATED:20260318T102139Z
LAST-MODIFIED:20260405T152328Z
UID:11770-1775905200-1775926800@campus.stbrendansrugbyclub.com.ar
SUMMARY:Sábado 11/4 - FECHA 4 - Virreyes vs SBRC - Visita
DESCRIPTION:
URL:https://campus.stbrendansrugbyclub.com.ar/evento/sabado-11-4-fecha-4-virreyes-vs-sbrc-visita/
LOCATION:Virreyes\, Av. Hipólito Yrigoyen 6702\, Victoria\, Provincia de Buenos Aires\, B1645\, Argentina
CATEGORIES:PLANTEL SUPERIOR
ATTACH;FMTTYPE=image/jpeg:https://campus.stbrendansrugbyclub.com.ar/wp-content/uploads/2026/04/2026-04-05-SEMANA-5-FECHA-4-05.jpeg
END:VEVENT
BEGIN:VEVENT
DTSTART;TZID=America/Argentina/Buenos_Aires:20260414T200000
DTEND;TZID=America/Argentina/Buenos_Aires:20260414T220000
DTSTAMP:20260423T174302
CREATED:20260412T222702Z
LAST-MODIFIED:20260412T222702Z
UID:12090-1776196800-1776204000@campus.stbrendansrugbyclub.com.ar
SUMMARY:MARTES 14-4 - FFAA 20 HS. 120 min.
DESCRIPTION:PREPARACION FISICA 15′ \nDESTREZAS X PUESTOS 20′ \nFORWARDS: SCRUM\nBACKS: DEFENSA \nDESTREZAS GENERALES + RUGBY 60′: UN EQUIPO DESTREZAS 3 BLOQUES DE 6′ LOS OTROS DOS RUGBY. \n\nATRAPAR Y PASAR\nDUELO + RUCK\nTACKLE\n\nACONDICIONAMIENTO 15′
URL:https://campus.stbrendansrugbyclub.com.ar/evento/martes-14-4-ffaa-20-hs-120-min/
LOCATION:SBRC – Círculo de La Fuerza Aérea\, Av. del Libertador 661\, Vicente Lopez\, Pcia. Bs. As.
CATEGORIES:PLANTEL SUPERIOR
ATTACH;FMTTYPE=image/jpeg:https://campus.stbrendansrugbyclub.com.ar/wp-content/uploads/2026/04/2026-04-12-SEMANA-6-FECHA-5-02.jpeg
END:VEVENT
BEGIN:VEVENT
DTSTART;TZID=America/Argentina/Buenos_Aires:20260416T200000
DTEND;TZID=America/Argentina/Buenos_Aires:20260416T220000
DTSTAMP:20260423T174302
CREATED:20260412T222915Z
LAST-MODIFIED:20260412T222915Z
UID:12092-1776369600-1776376800@campus.stbrendansrugbyclub.com.ar
SUMMARY:JUEVES 16-4 - FFAA 20 HS. 120 min.
DESCRIPTION:PREPARACION FISICA 30′ \nDESTREZAS GENERALES 20′: \n\nDUELO + RUCK\nDEFENSA + TACKLE\nATRAPAR Y PASAR\n\nDESTREZAS X PUESTO:30′ \nFORWARDS: LINE Y MAUL\nBACKS: SEMI ATAQUES + LANZAMIENTOS (DEFENSA) \nMGJ 15′\nRUGBY 15′
URL:https://campus.stbrendansrugbyclub.com.ar/evento/jueves-16-4-ffaa-20-hs-120-min/
LOCATION:SBRC – Círculo de La Fuerza Aérea\, Av. del Libertador 661\, Vicente Lopez\, Pcia. Bs. As.
CATEGORIES:PLANTEL SUPERIOR
ATTACH;FMTTYPE=image/jpeg:https://campus.stbrendansrugbyclub.com.ar/wp-content/uploads/2026/04/2026-04-12-SEMANA-6-FECHA-5-03.jpeg
END:VEVENT
BEGIN:VEVENT
DTSTART;TZID=America/Argentina/Buenos_Aires:20260417T180000
DTEND;TZID=America/Argentina/Buenos_Aires:20260418T123000
DTSTAMP:20260423T174302
CREATED:20260318T090141Z
LAST-MODIFIED:20260318T090141Z
UID:11715-1776448800-1776515400@campus.stbrendansrugbyclub.com.ar
SUMMARY:CAMPAMENTO Y ENTRENAMIENTO EN EL CLUB
DESCRIPTION:
URL:https://campus.stbrendansrugbyclub.com.ar/evento/campamento-y-entrenamiento-en-el-club/
LOCATION:SBRC – Pilar del Este\, A. Palma 3150\, Villa Rosa\, Pcia. Bs. As.\, Argentina
CATEGORIES:INFANTILES
ATTACH;FMTTYPE=image/png:https://campus.stbrendansrugbyclub.com.ar/wp-content/uploads/2026/03/2026-04-17-BRENDANS-CAMP-2026.png
END:VEVENT
BEGIN:VEVENT
DTSTART;TZID=America/Argentina/Buenos_Aires:20260418T103000
DTEND;TZID=America/Argentina/Buenos_Aires:20260418T170000
DTSTAMP:20260423T174302
CREATED:20260318T102240Z
LAST-MODIFIED:20260412T222958Z
UID:11772-1776508200-1776531600@campus.stbrendansrugbyclub.com.ar
SUMMARY:Sábado 18/4 - FECHA 5 - SBRC vs Lanus  - Local
DESCRIPTION:
URL:https://campus.stbrendansrugbyclub.com.ar/evento/sabado-18-4-fecha-5-sbrc-vs-lanus-local/
LOCATION:SBRC – Pilar del Este\, A. Palma 3150\, Villa Rosa\, Pcia. Bs. As.\, Argentina
CATEGORIES:PLANTEL SUPERIOR
ATTACH;FMTTYPE=image/jpeg:https://campus.stbrendansrugbyclub.com.ar/wp-content/uploads/2026/04/2026-04-12-SEMANA-6-FECHA-5-04.jpeg
END:VEVENT
BEGIN:VEVENT
DTSTART;TZID=America/Argentina/Buenos_Aires:20260421T200000
DTEND;TZID=America/Argentina/Buenos_Aires:20260421T220000
DTSTAMP:20260423T174302
CREATED:20260420T154125Z
LAST-MODIFIED:20260420T154125Z
UID:12126-1776801600-1776808800@campus.stbrendansrugbyclub.com.ar
SUMMARY:MARTES 21-4 - FFAA 20 HS. 120 min.
DESCRIPTION:
URL:https://campus.stbrendansrugbyclub.com.ar/evento/martes-21-4-ffaa-20-hs-120-min/
LOCATION:SBRC – Círculo de La Fuerza Aérea\, Av. del Libertador 661\, Vicente Lopez\, Pcia. Bs. As.
CATEGORIES:PLANTEL SUPERIOR
ATTACH;FMTTYPE=image/jpeg:https://campus.stbrendansrugbyclub.com.ar/wp-content/uploads/2026/04/2026-04-20-SEMANA-7-FECHA-6-02.jpeg
END:VEVENT
BEGIN:VEVENT
DTSTART;TZID=America/Argentina/Buenos_Aires:20260423T200000
DTEND;TZID=America/Argentina/Buenos_Aires:20260423T220000
DTSTAMP:20260423T174302
CREATED:20260420T154224Z
LAST-MODIFIED:20260420T154224Z
UID:12128-1776974400-1776981600@campus.stbrendansrugbyclub.com.ar
SUMMARY:JUEVES 23-4 - FFAA 20 HS. 120 min.
DESCRIPTION:
URL:https://campus.stbrendansrugbyclub.com.ar/evento/jueves-23-4-ffaa-20-hs-120-min/
LOCATION:SBRC – Círculo de La Fuerza Aérea\, Av. del Libertador 661\, Vicente Lopez\, Pcia. Bs. As.
CATEGORIES:PLANTEL SUPERIOR
ATTACH;FMTTYPE=image/jpeg:https://campus.stbrendansrugbyclub.com.ar/wp-content/uploads/2026/04/2026-04-20-SEMANA-7-FECHA-6-03.jpeg
END:VEVENT
BEGIN:VEVENT
DTSTART;TZID=America/Argentina/Buenos_Aires:20260425T093000
DTEND;TZID=America/Argentina/Buenos_Aires:20260425T123000
DTSTAMP:20260423T174302
CREATED:20260318T090230Z
LAST-MODIFIED:20260318T090230Z
UID:11717-1777109400-1777120200@campus.stbrendansrugbyclub.com.ar
SUMMARY:ENCUENTRO INFANTILES EN EL CLUB
DESCRIPTION:CIUDAD BS. AS.
URL:https://campus.stbrendansrugbyclub.com.ar/evento/encuentro-infantiles-en-el-club-2/
LOCATION:SBRC – Pilar del Este\, A. Palma 3150\, Villa Rosa\, Pcia. Bs. As.\, Argentina
CATEGORIES:INFANTILES
ATTACH;FMTTYPE=image/png:https://campus.stbrendansrugbyclub.com.ar/wp-content/uploads/2026/03/2026-04-25-ENCUENTRO-INFANTILES-EN-EL-CLUB.png
END:VEVENT
BEGIN:VEVENT
DTSTART;TZID=America/Argentina/Buenos_Aires:20260425T103000
DTEND;TZID=America/Argentina/Buenos_Aires:20260425T170000
DTSTAMP:20260423T174302
CREATED:20260318T102323Z
LAST-MODIFIED:20260318T102323Z
UID:11774-1777113000-1777136400@campus.stbrendansrugbyclub.com.ar
SUMMARY:Sábado 25/4 - FECHA 6 - SBRC vs Ciudad Bs. As. - Local
DESCRIPTION:
URL:https://campus.stbrendansrugbyclub.com.ar/evento/sabado-25-4-fecha-6-sbrc-vs-ciudad-bs-as-local/
LOCATION:SBRC – Pilar del Este\, A. Palma 3150\, Villa Rosa\, Pcia. Bs. As.\, Argentina
CATEGORIES:PLANTEL SUPERIOR
ATTACH;FMTTYPE=image/png:https://campus.stbrendansrugbyclub.com.ar/wp-content/uploads/2026/03/FECHA-6-25_4-PS-2026.png
END:VEVENT
BEGIN:VEVENT
DTSTART;VALUE=DATE:20260502
DTEND;VALUE=DATE:20260504
DTSTAMP:20260423T174302
CREATED:20260318T102520Z
LAST-MODIFIED:20260318T102520Z
UID:11779-1777683600-1777769999@campus.stbrendansrugbyclub.com.ar
SUMMARY:FECHA LIBRE
DESCRIPTION:
URL:https://campus.stbrendansrugbyclub.com.ar/evento/fecha-libre-2/
LOCATION:SBRC – Pilar del Este\, A. Palma 3150\, Villa Rosa\, Pcia. Bs. As.\, Argentina
CATEGORIES:PLANTEL SUPERIOR
ATTACH;FMTTYPE=image/png:https://campus.stbrendansrugbyclub.com.ar/wp-content/uploads/2026/03/FECHA-6-LIBRE-2_5.png
END:VEVENT
BEGIN:VEVENT
DTSTART;TZID=America/Argentina/Buenos_Aires:20260509T093000
DTEND;TZID=America/Argentina/Buenos_Aires:20260509T123000
DTSTAMP:20260423T174302
CREATED:20260318T090525Z
LAST-MODIFIED:20260318T090540Z
UID:11719-1778319000-1778329800@campus.stbrendansrugbyclub.com.ar
SUMMARY:ENCUENTRO INFANTILES EN SAN MIGUEL
DESCRIPTION:
URL:https://campus.stbrendansrugbyclub.com.ar/evento/encuentro-infantiles-en-san-miguel/
LOCATION:SAN MIGUEL\, Pardo 5200\, San Miguel\, Provincia de Buenos Aires\, B1663\, Argentina
CATEGORIES:INFANTILES
ATTACH;FMTTYPE=image/png:https://campus.stbrendansrugbyclub.com.ar/wp-content/uploads/2026/03/2026-05-09-ENCUENTRO-INFANTILES-SAN-MIGUEL.png
END:VEVENT
BEGIN:VEVENT
DTSTART;TZID=America/Argentina/Buenos_Aires:20260509T110000
DTEND;TZID=America/Argentina/Buenos_Aires:20260509T170000
DTSTAMP:20260423T174302
CREATED:20260318T102420Z
LAST-MODIFIED:20260318T102420Z
UID:11777-1778324400-1778346000@campus.stbrendansrugbyclub.com.ar
SUMMARY:Sábado 9/5 - FECHA 7 - San Miguel vs SBRC - Visita
DESCRIPTION:
URL:https://campus.stbrendansrugbyclub.com.ar/evento/sabado-9-5-fecha-7-san-miguel-vs-sbrc-visita/
LOCATION:SAN MIGUEL\, Pardo 5200\, San Miguel\, Provincia de Buenos Aires\, B1663\, Argentina
CATEGORIES:PLANTEL SUPERIOR
ATTACH;FMTTYPE=image/png:https://campus.stbrendansrugbyclub.com.ar/wp-content/uploads/2026/03/FECHA-7-9_5-PS-2026.png
END:VEVENT
BEGIN:VEVENT
DTSTART;TZID=America/Argentina/Buenos_Aires:20260516T093000
DTEND;TZID=America/Argentina/Buenos_Aires:20260516T123000
DTSTAMP:20260423T174302
CREATED:20260318T090639Z
LAST-MODIFIED:20260318T090639Z
UID:11723-1778923800-1778934600@campus.stbrendansrugbyclub.com.ar
SUMMARY:ENCUENTRO INFANTILES EN EL CLUB
DESCRIPTION:SITAS
URL:https://campus.stbrendansrugbyclub.com.ar/evento/encuentro-infantiles-en-el-club-3/
LOCATION:SBRC – Pilar del Este\, A. Palma 3150\, Villa Rosa\, Pcia. Bs. As.\, Argentina
CATEGORIES:INFANTILES
ATTACH;FMTTYPE=image/png:https://campus.stbrendansrugbyclub.com.ar/wp-content/uploads/2026/03/2026-05-16-ENCUENTRO-INFANTILES-EN-EL-CLUB.png
END:VEVENT
BEGIN:VEVENT
DTSTART;TZID=America/Argentina/Buenos_Aires:20260516T103000
DTEND;TZID=America/Argentina/Buenos_Aires:20260516T170000
DTSTAMP:20260423T174302
CREATED:20260318T102608Z
LAST-MODIFIED:20260318T102608Z
UID:11781-1778927400-1778950800@campus.stbrendansrugbyclub.com.ar
SUMMARY:Sábado 16/5 - FECHA 8 - SBRC vs SITAS - Local
DESCRIPTION:
URL:https://campus.stbrendansrugbyclub.com.ar/evento/sabado-16-5-fecha-8-sbrc-vs-sitas-local/
LOCATION:SBRC – Pilar del Este\, A. Palma 3150\, Villa Rosa\, Pcia. Bs. As.\, Argentina
CATEGORIES:PLANTEL SUPERIOR
ATTACH;FMTTYPE=image/png:https://campus.stbrendansrugbyclub.com.ar/wp-content/uploads/2026/03/FECHA-8-16_5-PS-2026.png
END:VEVENT
BEGIN:VEVENT
DTSTART;TZID=America/Argentina/Buenos_Aires:20260523T093000
DTEND;TZID=America/Argentina/Buenos_Aires:20260523T123000
DTSTAMP:20260423T174302
CREATED:20260318T090723Z
LAST-MODIFIED:20260318T090723Z
UID:11725-1779528600-1779539400@campus.stbrendansrugbyclub.com.ar
SUMMARY:ENCUENTRO INFANTILES EN ARECO
DESCRIPTION:
URL:https://campus.stbrendansrugbyclub.com.ar/evento/encuentro-infantiles-en-areco/
LOCATION:Areco\, Posta de Morales 1048\, San Antonio de Areco\, Provincia de Buenos Aires\, B2760\, Argentina
CATEGORIES:INFANTILES
ATTACH;FMTTYPE=image/png:https://campus.stbrendansrugbyclub.com.ar/wp-content/uploads/2026/03/2026-05-23-ENCUENTRO-INFANTILES-ARECO.png
END:VEVENT
BEGIN:VEVENT
DTSTART;TZID=America/Argentina/Buenos_Aires:20260523T110000
DTEND;TZID=America/Argentina/Buenos_Aires:20260523T170000
DTSTAMP:20260423T174302
CREATED:20260318T102648Z
LAST-MODIFIED:20260318T102648Z
UID:11783-1779534000-1779555600@campus.stbrendansrugbyclub.com.ar
SUMMARY:Sábado 23/5 - FECHA 9 - Areco vs SBRC - Visita
DESCRIPTION:
URL:https://campus.stbrendansrugbyclub.com.ar/evento/sabado-23-5-fecha-9-areco-vs-sbrc-visita/
LOCATION:Areco\, Posta de Morales 1048\, San Antonio de Areco\, Provincia de Buenos Aires\, B2760\, Argentina
CATEGORIES:PLANTEL SUPERIOR
ATTACH;FMTTYPE=image/png:https://campus.stbrendansrugbyclub.com.ar/wp-content/uploads/2026/03/FECHA-9-23_5-PS-2026.png
END:VEVENT
BEGIN:VEVENT
DTSTART;VALUE=DATE:20260530
DTEND;VALUE=DATE:20260601
DTSTAMP:20260423T174302
CREATED:20260318T102828Z
LAST-MODIFIED:20260318T102828Z
UID:11787-1780102800-1780189199@campus.stbrendansrugbyclub.com.ar
SUMMARY:FECHA LIBRE
DESCRIPTION:
URL:https://campus.stbrendansrugbyclub.com.ar/evento/fecha-libre-3/
LOCATION:SBRC – Pilar del Este\, A. Palma 3150\, Villa Rosa\, Pcia. Bs. As.\, Argentina
CATEGORIES:PLANTEL SUPERIOR
ATTACH;FMTTYPE=image/png:https://campus.stbrendansrugbyclub.com.ar/wp-content/uploads/2026/03/FECHA-9-LIBRE-30_5.png
END:VEVENT
BEGIN:VEVENT
DTSTART;TZID=America/Argentina/Buenos_Aires:20260606T103000
DTEND;TZID=America/Argentina/Buenos_Aires:20260606T170000
DTSTAMP:20260423T174302
CREATED:20260318T102749Z
LAST-MODIFIED:20260318T102749Z
UID:11785-1780741800-1780765200@campus.stbrendansrugbyclub.com.ar
SUMMARY:Sábado 6/6 - FECHA 10 - SBRC vs Lujan - Local
DESCRIPTION:
URL:https://campus.stbrendansrugbyclub.com.ar/evento/sabado-6-6-fecha-10-sbrc-vs-lujan-local/
LOCATION:SBRC – Pilar del Este\, A. Palma 3150\, Villa Rosa\, Pcia. Bs. As.\, Argentina
CATEGORIES:PLANTEL SUPERIOR
ATTACH;FMTTYPE=image/png:https://campus.stbrendansrugbyclub.com.ar/wp-content/uploads/2026/03/FECHA-10-6_6-PS-2026.png
END:VEVENT
BEGIN:VEVENT
DTSTART;TZID=America/Argentina/Buenos_Aires:20260613T110000
DTEND;TZID=America/Argentina/Buenos_Aires:20260613T170000
DTSTAMP:20260423T174302
CREATED:20260318T102949Z
LAST-MODIFIED:20260318T103201Z
UID:11789-1781348400-1781370000@campus.stbrendansrugbyclub.com.ar
SUMMARY:Sábado 13/-6 - FECHA 11 - Los Molinos vs SBRC - Visita
DESCRIPTION:
URL:https://campus.stbrendansrugbyclub.com.ar/evento/sabado-13-6-fecha-11-los-molinos-vs-sbrc-visita/
LOCATION:LOS MOLINOS\, Mariano Acosta 3350\, Presidente Derqui\, Provincia de Buenos Aires\, B1635CUN\, Argentina
CATEGORIES:PLANTEL SUPERIOR
ATTACH;FMTTYPE=image/png:https://campus.stbrendansrugbyclub.com.ar/wp-content/uploads/2026/03/FECHA-11-13_6-PS-2026.png
END:VEVENT
BEGIN:VEVENT
DTSTART;TZID=America/Argentina/Buenos_Aires:20260620T103000
DTEND;TZID=America/Argentina/Buenos_Aires:20260620T170000
DTSTAMP:20260423T174302
CREATED:20260318T103245Z
LAST-MODIFIED:20260318T103245Z
UID:11793-1781951400-1781974800@campus.stbrendansrugbyclub.com.ar
SUMMARY:Sábado 20/6 - FECHA 12 - SBRC vs Centro Naval - Local
DESCRIPTION:
URL:https://campus.stbrendansrugbyclub.com.ar/evento/sabado-20-6-fecha-12-sbrc-vs-centro-naval-local/
LOCATION:SBRC – Pilar del Este\, A. Palma 3150\, Villa Rosa\, Pcia. Bs. As.\, Argentina
CATEGORIES:PLANTEL SUPERIOR
ATTACH;FMTTYPE=image/png:https://campus.stbrendansrugbyclub.com.ar/wp-content/uploads/2026/03/FECHA-12-20_6-PS-2026.png
END:VEVENT
BEGIN:VEVENT
DTSTART;TZID=America/Argentina/Buenos_Aires:20260704T110000
DTEND;TZID=America/Argentina/Buenos_Aires:20260704T170000
DTSTAMP:20260423T174302
CREATED:20260318T103329Z
LAST-MODIFIED:20260318T103329Z
UID:11796-1783162800-1783184400@campus.stbrendansrugbyclub.com.ar
SUMMARY:Sábado 4/7 - FECHA 13 - CASA DE PADUA VS SBRC - Visita
DESCRIPTION:
URL:https://campus.stbrendansrugbyclub.com.ar/evento/sabado-4-7-fecha-13-casa-de-padua-vs-sbrc-visita/
LOCATION:CASA de Padua\, Antezana 3101\, Merlo\, Pcia. de Buenos Aires\, B1722\, Argentina
CATEGORIES:PLANTEL SUPERIOR
ATTACH;FMTTYPE=image/png:https://campus.stbrendansrugbyclub.com.ar/wp-content/uploads/2026/03/FECHA-13-47-PS-2026.png
END:VEVENT
END:VCALENDAR