BEGIN:VCALENDAR
VERSION:2.0
PRODID:-//Campus St. Brendan&#039;s Rugby - ECPv6.15.20//NONSGML v1.0//EN
CALSCALE:GREGORIAN
METHOD:PUBLISH
X-WR-CALNAME:Campus St. Brendan&#039;s Rugby
X-ORIGINAL-URL:https://campus.stbrendansrugbyclub.com.ar
X-WR-CALDESC:Eventos para Campus St. Brendan&#039;s Rugby
REFRESH-INTERVAL;VALUE=DURATION:PT1H
X-Robots-Tag:noindex
X-PUBLISHED-TTL:PT1H
BEGIN:VTIMEZONE
TZID:America/Argentina/Buenos_Aires
BEGIN:STANDARD
TZOFFSETFROM:-0300
TZOFFSETTO:-0300
TZNAME:-03
DTSTART:20240101T000000
END:STANDARD
END:VTIMEZONE
BEGIN:VEVENT
DTSTART;TZID=America/Argentina/Buenos_Aires:20250816T110000
DTEND;TZID=America/Argentina/Buenos_Aires:20250816T170000
DTSTAMP:20260425T122035
CREATED:20241223T112554Z
LAST-MODIFIED:20241223T112554Z
UID:7799-1755342000-1755363600@campus.stbrendansrugbyclub.com.ar
SUMMARY:SBRC vs. CASA DE PADUA - Fecha 19 - A CONFIRMAR
DESCRIPTION:
URL:https://campus.stbrendansrugbyclub.com.ar/evento/sbrc-vs-casa-de-padua-fecha-19-a-confirmar/
LOCATION:SBRC – Pilar del Este\, A. Palma 3150\, Villa Rosa\, Pcia. Bs. As.\, Argentina
CATEGORIES:INTERMEDIA,PLANTEL SUPERIOR,PRE - INTERMEDIA,PRIMERA
END:VEVENT
BEGIN:VEVENT
DTSTART;TZID=America/Argentina/Buenos_Aires:20250809T110000
DTEND;TZID=America/Argentina/Buenos_Aires:20250809T170000
DTSTAMP:20260425T122035
CREATED:20241223T112310Z
LAST-MODIFIED:20241223T112310Z
UID:7797-1754737200-1754758800@campus.stbrendansrugbyclub.com.ar
SUMMARY:CENTRO NAVAL vs. SBRC - Fecha 18
DESCRIPTION:
URL:https://campus.stbrendansrugbyclub.com.ar/evento/centro-naval-vs-sbrc-fecha-18/
LOCATION:Centro Naval\, Colectora Av. Cantilo 3200\, CABA\, Argentina
CATEGORIES:INTERMEDIA,PLANTEL SUPERIOR,PRE - INTERMEDIA,PRIMERA
END:VEVENT
BEGIN:VEVENT
DTSTART;TZID=America/Argentina/Buenos_Aires:20250802T100000
DTEND;TZID=America/Argentina/Buenos_Aires:20250802T170000
DTSTAMP:20260425T122035
CREATED:20241223T112123Z
LAST-MODIFIED:20241223T112123Z
UID:7795-1754128800-1754154000@campus.stbrendansrugbyclub.com.ar
SUMMARY:SBRC vs. VICENTINOS - Fecha 17
DESCRIPTION:
URL:https://campus.stbrendansrugbyclub.com.ar/evento/sbrc-vs-vicentinos-fecha-17/
LOCATION:SBRC – Pilar del Este\, A. Palma 3150\, Villa Rosa\, Pcia. Bs. As.\, Argentina
CATEGORIES:INTERMEDIA,PLANTEL SUPERIOR,PRE - INTERMEDIA,PRIMERA
END:VEVENT
BEGIN:VEVENT
DTSTART;VALUE=DATE:20250726
DTEND;VALUE=DATE:20250728
DTSTAMP:20260425T122035
CREATED:20241223T112043Z
LAST-MODIFIED:20241223T112043Z
UID:7793-1753491600-1753577999@campus.stbrendansrugbyclub.com.ar
SUMMARY:JULIO 26 LIBRE
DESCRIPTION:
URL:https://campus.stbrendansrugbyclub.com.ar/evento/julio-26-libre/
LOCATION:BUENOS AIRES
CATEGORIES:INTERMEDIA,PLANTEL SUPERIOR,PRE - INTERMEDIA,PRIMERA
END:VEVENT
BEGIN:VEVENT
DTSTART;TZID=America/Argentina/Buenos_Aires:20250719T110000
DTEND;TZID=America/Argentina/Buenos_Aires:20250719T170000
DTSTAMP:20260425T122035
CREATED:20241223T111931Z
LAST-MODIFIED:20241223T111942Z
UID:7791-1752922800-1752944400@campus.stbrendansrugbyclub.com.ar
SUMMARY:VIRREYES vs. SBRC - Fecha 16
DESCRIPTION:
URL:https://campus.stbrendansrugbyclub.com.ar/evento/virreyes-vs-sbrc-fecha-16/
LOCATION:Virreyes\, Av. Hipólito Yrigoyen 6702\, Victoria\, Provincia de Buenos Aires\, B1645\, Argentina
CATEGORIES:INTERMEDIA,PLANTEL SUPERIOR,PRE - INTERMEDIA,PRIMERA
END:VEVENT
BEGIN:VEVENT
DTSTART;TZID=America/Argentina/Buenos_Aires:20250712T080000
DTEND;TZID=America/Argentina/Buenos_Aires:20250712T170000
DTSTAMP:20260425T122035
CREATED:20241223T111824Z
LAST-MODIFIED:20241223T111824Z
UID:7786-1752307200-1752339600@campus.stbrendansrugbyclub.com.ar
SUMMARY:SBRC vs. EL RETIRO - Fecha 15
DESCRIPTION:
URL:https://campus.stbrendansrugbyclub.com.ar/evento/sbrc-vs-el-retiro-fecha-15/
LOCATION:SBRC – Pilar del Este\, A. Palma 3150\, Villa Rosa\, Pcia. Bs. As.\, Argentina
CATEGORIES:INTERMEDIA,PLANTEL SUPERIOR,PRE - INTERMEDIA,PRIMERA
END:VEVENT
BEGIN:VEVENT
DTSTART;VALUE=DATE:20250705
DTEND;VALUE=DATE:20250707
DTSTAMP:20260425T122035
CREATED:20241223T111855Z
LAST-MODIFIED:20241223T111855Z
UID:7789-1751677200-1751763599@campus.stbrendansrugbyclub.com.ar
SUMMARY:JULIO 5 LIBRE
DESCRIPTION:
URL:https://campus.stbrendansrugbyclub.com.ar/evento/julio-5-libre/
LOCATION:BUENOS AIRES
CATEGORIES:INTERMEDIA,PLANTEL SUPERIOR,PRE - INTERMEDIA,PRIMERA
END:VEVENT
BEGIN:VEVENT
DTSTART;TZID=America/Argentina/Buenos_Aires:20250628T110000
DTEND;TZID=America/Argentina/Buenos_Aires:20250628T170000
DTSTAMP:20260425T122035
CREATED:20241223T111729Z
LAST-MODIFIED:20241223T111740Z
UID:7782-1751108400-1751130000@campus.stbrendansrugbyclub.com.ar
SUMMARY:San Carlos vs. SBRC - Fecha 14
DESCRIPTION:
URL:https://campus.stbrendansrugbyclub.com.ar/evento/san-carlos-vs-sbrc-fecha-14/
LOCATION:SAN CARLOS\, Alejandro Vitale 500\, Buenos Aires\, Provincia de Buenos Aires\, B1613\, Argentina
CATEGORIES:INTERMEDIA,PLANTEL SUPERIOR,PRE - INTERMEDIA,PRIMERA
END:VEVENT
BEGIN:VEVENT
DTSTART;TZID=America/Argentina/Buenos_Aires:20250621T110000
DTEND;TZID=America/Argentina/Buenos_Aires:20250621T170000
DTSTAMP:20260425T122035
CREATED:20241223T111358Z
LAST-MODIFIED:20250616T045252Z
UID:7780-1750503600-1750525200@campus.stbrendansrugbyclub.com.ar
SUMMARY:LANUS  vs. SBRC - Fecha 13
DESCRIPTION:
URL:https://campus.stbrendansrugbyclub.com.ar/evento/lanus-vs-sbrc-fecha-13/
LOCATION:Lanús Rugby Club\, Lanús Rugby Club\, Lanús Este\, Pcia. de Buenos Aires\, B1826\, Argentina
CATEGORIES:INTERMEDIA,PLANTEL SUPERIOR,PRE - INTERMEDIA,PRIMERA
END:VEVENT
BEGIN:VEVENT
DTSTART;TZID=America/Argentina/Buenos_Aires:20250614T110000
DTEND;TZID=America/Argentina/Buenos_Aires:20250614T170000
DTSTAMP:20260425T122035
CREATED:20241223T111325Z
LAST-MODIFIED:20250419T224337Z
UID:7778-1749898800-1749920400@campus.stbrendansrugbyclub.com.ar
SUMMARY:SBRC  vs. DAOM - Fecha 12
DESCRIPTION:
URL:https://campus.stbrendansrugbyclub.com.ar/evento/sbrc-vs-daom-fecha-12/
LOCATION:SBRC – Pilar del Este\, A. Palma 3150\, Villa Rosa\, Pcia. Bs. As.\, Argentina
CATEGORIES:INTERMEDIA,PLANTEL SUPERIOR,PRE - INTERMEDIA,PRIMERA
ATTACH;FMTTYPE=image/png:https://campus.stbrendansrugbyclub.com.ar/wp-content/uploads/2024/12/2025-06-14-Plantel-Sup-FECHA-12-BANNER.png
END:VEVENT
BEGIN:VEVENT
DTSTART;TZID=America/Argentina/Buenos_Aires:20250607T100000
DTEND;TZID=America/Argentina/Buenos_Aires:20250607T170000
DTSTAMP:20260425T122035
CREATED:20241223T111244Z
LAST-MODIFIED:20250419T224257Z
UID:7776-1749290400-1749315600@campus.stbrendansrugbyclub.com.ar
SUMMARY:SBRC  vs. ARECO - Fecha 11
DESCRIPTION:
URL:https://campus.stbrendansrugbyclub.com.ar/evento/sbrc-vs-areco-fecha-11/
LOCATION:SBRC – Pilar del Este\, A. Palma 3150\, Villa Rosa\, Pcia. Bs. As.\, Argentina
CATEGORIES:INTERMEDIA,PLANTEL SUPERIOR,PRE - INTERMEDIA,PRIMERA
ATTACH;FMTTYPE=image/png:https://campus.stbrendansrugbyclub.com.ar/wp-content/uploads/2024/12/2025-06-07-Plantel-Sup-FECHA-11-BANNER.png
END:VEVENT
BEGIN:VEVENT
DTSTART;TZID=America/Argentina/Buenos_Aires:20250531T110000
DTEND;TZID=America/Argentina/Buenos_Aires:20250531T170000
DTSTAMP:20260425T122035
CREATED:20241223T111157Z
LAST-MODIFIED:20250419T224514Z
UID:7774-1748689200-1748710800@campus.stbrendansrugbyclub.com.ar
SUMMARY:MONTE GRANDE  vs. SBRC - Fecha 10
DESCRIPTION:
URL:https://campus.stbrendansrugbyclub.com.ar/evento/monte-grande-vs-sbrc-fecha-10/
LOCATION:Monte Grande\, P. Dreyer 3302\, Monte Grande\, Pcia. de Buenos Aires\, 1842\, Argentina
CATEGORIES:INTERMEDIA,PLANTEL SUPERIOR,PRE - INTERMEDIA,PRIMERA
ATTACH;FMTTYPE=image/png:https://campus.stbrendansrugbyclub.com.ar/wp-content/uploads/2024/12/2025-05-31-Plantel-Sup-FECHA-10-BANNER.png
END:VEVENT
BEGIN:VEVENT
DTSTART;TZID=America/Argentina/Buenos_Aires:20250524T110000
DTEND;TZID=America/Argentina/Buenos_Aires:20250524T170000
DTSTAMP:20260425T122035
CREATED:20241223T111030Z
LAST-MODIFIED:20250519T130425Z
UID:7770-1748084400-1748106000@campus.stbrendansrugbyclub.com.ar
SUMMARY:SBRC vs. CIUDAD de BS. AS. - Fecha 9
DESCRIPTION:
URL:https://campus.stbrendansrugbyclub.com.ar/evento/sbrc-vs-ciudad-de-bs-as-fecha-9/
LOCATION:SBRC – Pilar del Este\, A. Palma 3150\, Villa Rosa\, Pcia. Bs. As.\, Argentina
CATEGORIES:INTERMEDIA,PLANTEL SUPERIOR,PRE - INTERMEDIA,PRIMERA
ATTACH;FMTTYPE=image/png:https://campus.stbrendansrugbyclub.com.ar/wp-content/uploads/2024/12/2025-05-17-Plantel-Sup-FECHA-9-BANNER.png
END:VEVENT
BEGIN:VEVENT
DTSTART;TZID=America/Argentina/Buenos_Aires:20250510T110000
DTEND;TZID=America/Argentina/Buenos_Aires:20250510T170000
DTSTAMP:20260425T122035
CREATED:20241223T110924Z
LAST-MODIFIED:20250419T224202Z
UID:7766-1746874800-1746896400@campus.stbrendansrugbyclub.com.ar
SUMMARY:SITAS vs. SBRC - Fecha 8
DESCRIPTION:
URL:https://campus.stbrendansrugbyclub.com.ar/evento/sitas-vs-sbrc-fecha-8/
LOCATION:SITAS\, Tte. Gral. Bergamini 1397\, El Palomar\, Provincia de Buenos Aires\, B1685AOA\, Argentina
CATEGORIES:INTERMEDIA,PLANTEL SUPERIOR,PRE - INTERMEDIA,PRIMERA
ATTACH;FMTTYPE=image/png:https://campus.stbrendansrugbyclub.com.ar/wp-content/uploads/2024/12/2025-05-10-Plantel-Sup-FECHA-8-BANNER.png
END:VEVENT
BEGIN:VEVENT
DTSTART;TZID=America/Argentina/Buenos_Aires:20250503T100000
DTEND;TZID=America/Argentina/Buenos_Aires:20250503T170000
DTSTAMP:20260425T122035
CREATED:20241223T110710Z
LAST-MODIFIED:20250419T224129Z
UID:7764-1746266400-1746291600@campus.stbrendansrugbyclub.com.ar
SUMMARY:SBRC vs. LICEO MILITAR - Fecha 7
DESCRIPTION:
URL:https://campus.stbrendansrugbyclub.com.ar/evento/sbrc-vs-liceo-militar-fecha-7/
LOCATION:SBRC – Pilar del Este\, A. Palma 3150\, Villa Rosa\, Pcia. Bs. As.\, Argentina
CATEGORIES:INTERMEDIA,PLANTEL SUPERIOR,PRE - INTERMEDIA,PRIMERA
ATTACH;FMTTYPE=image/png:https://campus.stbrendansrugbyclub.com.ar/wp-content/uploads/2024/12/2025-05-03-Plantel-Sup-FECHA-7-BANNER.png
END:VEVENT
BEGIN:VEVENT
DTSTART;TZID=America/Argentina/Buenos_Aires:20250426T110000
DTEND;TZID=America/Argentina/Buenos_Aires:20250426T170000
DTSTAMP:20260425T122035
CREATED:20241223T110623Z
LAST-MODIFIED:20250419T224038Z
UID:7762-1745665200-1745686800@campus.stbrendansrugbyclub.com.ar
SUMMARY:CASA DE PADUA vs. SBRC - Fecha 6
DESCRIPTION:
URL:https://campus.stbrendansrugbyclub.com.ar/evento/casa-de-padua-vs-sbrc-fecha-6/
LOCATION:CASA de Padua\, Antezana 3101\, Merlo\, Pcia. de Buenos Aires\, B1722\, Argentina
CATEGORIES:INTERMEDIA,PLANTEL SUPERIOR,PRE - INTERMEDIA,PRIMERA
ATTACH;FMTTYPE=image/png:https://campus.stbrendansrugbyclub.com.ar/wp-content/uploads/2024/12/2025-04-26-Plantel-Sup-FECHA-6-BANNER.png
END:VEVENT
BEGIN:VEVENT
DTSTART;VALUE=DATE:20250419
DTEND;VALUE=DATE:20250421
DTSTAMP:20260425T122035
CREATED:20241219T204205Z
LAST-MODIFIED:20241219T204205Z
UID:7760-1745024400-1745110799@campus.stbrendansrugbyclub.com.ar
SUMMARY:FECHA LIBRE
DESCRIPTION:
URL:https://campus.stbrendansrugbyclub.com.ar/evento/fecha-libre/
LOCATION:BUENOS AIRES
CATEGORIES:INTERMEDIA,PLANTEL SUPERIOR,PRE - INTERMEDIA,PRIMERA
END:VEVENT
BEGIN:VEVENT
DTSTART;TZID=America/Argentina/Buenos_Aires:20250412T100000
DTEND;TZID=America/Argentina/Buenos_Aires:20250412T170000
DTSTAMP:20260425T122035
CREATED:20241219T204137Z
LAST-MODIFIED:20250326T145252Z
UID:7758-1744452000-1744477200@campus.stbrendansrugbyclub.com.ar
SUMMARY:SBRC vs. CENTRO NAVAL - Fecha 5
DESCRIPTION:
URL:https://campus.stbrendansrugbyclub.com.ar/evento/sbrc-vs-centro-naval-fecha-5/
LOCATION:SBRC – Pilar del Este\, A. Palma 3150\, Villa Rosa\, Pcia. Bs. As.\, Argentina
CATEGORIES:INTERMEDIA,PLANTEL SUPERIOR,PRE - INTERMEDIA,PRIMERA
ATTACH;FMTTYPE=image/png:https://campus.stbrendansrugbyclub.com.ar/wp-content/uploads/2025/03/2025-04-12-FECHA-5-vs-CENTRO-NAVAL-BANNER.png
END:VEVENT
BEGIN:VEVENT
DTSTART;TZID=America/Argentina/Buenos_Aires:20250411T170000
DTEND;TZID=America/Argentina/Buenos_Aires:20250412T170000
DTSTAMP:20260425T122035
CREATED:20250301T132206Z
LAST-MODIFIED:20250326T145226Z
UID:8434-1744390800-1744477200@campus.stbrendansrugbyclub.com.ar
SUMMARY:Campamento Infantiles
DESCRIPTION:https://stbrendansrugbyclub.com.ar/campamento-infantiles-2025-2/
URL:https://campus.stbrendansrugbyclub.com.ar/evento/campamento-infantiles/
LOCATION:SBRC – Pilar del Este\, A. Palma 3150\, Villa Rosa\, Pcia. Bs. As.\, Argentina
CATEGORIES:INFANTILES
ATTACH;FMTTYPE=image/png:https://campus.stbrendansrugbyclub.com.ar/wp-content/uploads/2025/03/2025-04-11-CAMPAMENTO-INFANTILES-BANNER.png
END:VEVENT
BEGIN:VEVENT
DTSTART;TZID=America/Argentina/Buenos_Aires:20250405T110000
DTEND;TZID=America/Argentina/Buenos_Aires:20250405T170000
DTSTAMP:20260425T122035
CREATED:20241219T204102Z
LAST-MODIFIED:20250326T154551Z
UID:7756-1743850800-1743872400@campus.stbrendansrugbyclub.com.ar
SUMMARY:VICENTINOS vs. SBRC - Fecha 4
DESCRIPTION:
URL:https://campus.stbrendansrugbyclub.com.ar/evento/vicentinos-vs-sbrc-fecha-4/
LOCATION:Club Vicentinos\, Av. Primera Junta 3150\, San Miguel\, Pcia. Bs. As.\, Argentina
CATEGORIES:INTERMEDIA,PLANTEL SUPERIOR,PRE - INTERMEDIA,PRIMERA
ATTACH;FMTTYPE=image/png:https://campus.stbrendansrugbyclub.com.ar/wp-content/uploads/2025/03/2025-04-05-FECHA-4-vs-VICENTINOS-BANNER.png
END:VEVENT
BEGIN:VEVENT
DTSTART;TZID=America/Argentina/Buenos_Aires:20250329T100000
DTEND;TZID=America/Argentina/Buenos_Aires:20250329T170000
DTSTAMP:20260425T122035
CREATED:20241219T203928Z
LAST-MODIFIED:20250301T131542Z
UID:7754-1743242400-1743267600@campus.stbrendansrugbyclub.com.ar
SUMMARY:SBRC vs. VIRREYES - Fecha 3
DESCRIPTION:
URL:https://campus.stbrendansrugbyclub.com.ar/evento/sbrc-vs-virreyes-fecha-3/
LOCATION:SBRC – Pilar del Este\, A. Palma 3150\, Villa Rosa\, Pcia. Bs. As.\, Argentina
CATEGORIES:INTERMEDIA,PLANTEL SUPERIOR,PRE - INTERMEDIA,PRIMERA
ATTACH;FMTTYPE=image/png:https://campus.stbrendansrugbyclub.com.ar/wp-content/uploads/2025/03/2025-03-29-FECHA-3-SBRC-vs-VIRREYES-BANNER.png
END:VEVENT
BEGIN:VEVENT
DTSTART;TZID=America/Argentina/Buenos_Aires:20250322T110000
DTEND;TZID=America/Argentina/Buenos_Aires:20250322T170000
DTSTAMP:20260425T122035
CREATED:20241219T202647Z
LAST-MODIFIED:20250301T131357Z
UID:7752-1742641200-1742662800@campus.stbrendansrugbyclub.com.ar
SUMMARY:EL RETIRO vs. SBRC - Fecha 2
DESCRIPTION:
URL:https://campus.stbrendansrugbyclub.com.ar/evento/el-retiro-vs-sbrc-fecha-2/
LOCATION:El Retiro\, Solis Garay y Camino del Buen Ayre\, Hurlingham\, Pcia. de Buenos Aires\, Argentina
CATEGORIES:INTERMEDIA,PLANTEL SUPERIOR,PRE - INTERMEDIA,PRIMERA
ATTACH;FMTTYPE=image/png:https://campus.stbrendansrugbyclub.com.ar/wp-content/uploads/2025/03/2025-03-22-FECHA-2-EL-RETIRO-vs-SBRC-BANNER.png
END:VEVENT
BEGIN:VEVENT
DTSTART;TZID=America/Argentina/Buenos_Aires:20250322T093000
DTEND;TZID=America/Argentina/Buenos_Aires:20250322T123000
DTSTAMP:20260425T122035
CREATED:20250227T002754Z
LAST-MODIFIED:20250301T132326Z
UID:8407-1742635800-1742646600@campus.stbrendansrugbyclub.com.ar
SUMMARY:Encuentro en El Retiro
DESCRIPTION:Sábado 22 de Marzo – 9:30 hs\nEncuentro con El Retiro – Los Cedros – Tigre \nLes rogamos puntualidad.  \nRECUERDEN:  \n\nTomar un buen desayuno\nHidratación personal (jugadores y acompañantes)\nUsar protector solar y repelente para mosquitos\nTraer protector bucal e indumentaria de rugby\n\nPor cualquier duda o por nuevas familias que quieran empezar a jugar en St. Brendan´s Rugby Club por favor escribanos. Contacto. \n¡TODOS JUNTOS!\n¡VAMOS BRENDAN´S! \n  \n 
URL:https://campus.stbrendansrugbyclub.com.ar/evento/encuentro-en-el-retiro/
LOCATION:El Retiro\, Solis Garay y Camino del Buen Ayre\, Hurlingham\, Pcia. de Buenos Aires\, Argentina
CATEGORIES:INFANTILES
ATTACH;FMTTYPE=image/png:https://campus.stbrendansrugbyclub.com.ar/wp-content/uploads/2024/12/2025-03-22-ENCUENTRO-EN-EL-RETIRO-BANNER.png
END:VEVENT
BEGIN:VEVENT
DTSTART;TZID=America/Argentina/Buenos_Aires:20250315T100000
DTEND;TZID=America/Argentina/Buenos_Aires:20250315T170000
DTSTAMP:20260425T122035
CREATED:20241219T201403Z
LAST-MODIFIED:20250301T131251Z
UID:7743-1742032800-1742058000@campus.stbrendansrugbyclub.com.ar
SUMMARY:SBRC vs. San Carlos - Fecha 1
DESCRIPTION:
URL:https://campus.stbrendansrugbyclub.com.ar/evento/sbrc-vs-san-carlos-fecha-1/
LOCATION:SBRC – Pilar del Este\, A. Palma 3150\, Villa Rosa\, Pcia. Bs. As.\, Argentina
CATEGORIES:INTERMEDIA,PLANTEL SUPERIOR,PRE - INTERMEDIA,PRIMERA
ATTACH;FMTTYPE=image/png:https://campus.stbrendansrugbyclub.com.ar/wp-content/uploads/2025/03/2025-03-15-FECHA-1-SBRC-vs-SAN-CARLOS-BANNER.png
END:VEVENT
BEGIN:VEVENT
DTSTART;TZID=America/Argentina/Buenos_Aires:20250315T100000
DTEND;TZID=America/Argentina/Buenos_Aires:20250315T123000
DTSTAMP:20260425T122035
CREATED:20250227T000535Z
LAST-MODIFIED:20250301T132022Z
UID:8402-1742032800-1742041800@campus.stbrendansrugbyclub.com.ar
SUMMARY:Inicio de actividades. Entrenamiento Infantiles
DESCRIPTION:Sábado 15 de Marzo – 9:45 hs\nEntrenamiento en el Club. Les rogamos puntualidad.  \nRECUERDEN:  \n\nTomar un buen desayuno\nHidratación personal (jugadores y acompañantes)\nUsar protector solar y repelente para mosquitos\nTraer protector bucal e indumentaria de rugby\n\nPor cualquier duda o por nuevas familias que quieran empezar a jugar en St. Brendan´s Rugby Club por favor escribanos. Contacto. \n¡TODOS JUNTOS!\n¡VAMOS BRENDAN´S!
URL:https://campus.stbrendansrugbyclub.com.ar/evento/inicio-de-actividades-entrenamiento-infantiles/
LOCATION:SBRC – Pilar del Este\, A. Palma 3150\, Villa Rosa\, Pcia. Bs. As.\, Argentina
CATEGORIES:INFANTILES
ATTACH;FMTTYPE=image/png:https://campus.stbrendansrugbyclub.com.ar/wp-content/uploads/2024/12/2025-03-15-INICIO-INFANTILES-BANNER.png
END:VEVENT
BEGIN:VEVENT
DTSTART;TZID=America/Argentina/Buenos_Aires:20250313T200000
DTEND;TZID=America/Argentina/Buenos_Aires:20250313T220000
DTSTAMP:20260425T122035
CREATED:20241219T201317Z
LAST-MODIFIED:20241219T201317Z
UID:7741-1741896000-1741903200@campus.stbrendansrugbyclub.com.ar
SUMMARY:ENTRENAMIENTO FFAA
DESCRIPTION:
URL:https://campus.stbrendansrugbyclub.com.ar/evento/entrenamiento-ffaa-15/
LOCATION:SBRC – Círculo de La Fuerza Aérea\, Av. del Libertador 661\, Vicente Lopez\, Pcia. Bs. As.
CATEGORIES:INTERMEDIA,PLANTEL SUPERIOR,PRE - INTERMEDIA,PRIMERA
END:VEVENT
BEGIN:VEVENT
DTSTART;TZID=America/Argentina/Buenos_Aires:20250311T200000
DTEND;TZID=America/Argentina/Buenos_Aires:20250311T220000
DTSTAMP:20260425T122035
CREATED:20241219T201235Z
LAST-MODIFIED:20241219T201235Z
UID:7739-1741723200-1741730400@campus.stbrendansrugbyclub.com.ar
SUMMARY:ENTRENAMIENTO FFAA
DESCRIPTION:
URL:https://campus.stbrendansrugbyclub.com.ar/evento/entrenamiento-ffaa-14/
LOCATION:SBRC – Círculo de La Fuerza Aérea\, Av. del Libertador 661\, Vicente Lopez\, Pcia. Bs. As.
CATEGORIES:INTERMEDIA,PLANTEL SUPERIOR,PRE - INTERMEDIA,PRIMERA
END:VEVENT
BEGIN:VEVENT
DTSTART;TZID=America/Argentina/Buenos_Aires:20250306T220000
DTEND;TZID=America/Argentina/Buenos_Aires:20250309T220000
DTSTAMP:20260425T122035
CREATED:20241219T201122Z
LAST-MODIFIED:20250224T132516Z
UID:7735-1741298400-1741557600@campus.stbrendansrugbyclub.com.ar
SUMMARY:NECOCHEA 2025
DESCRIPTION:NECOCHEA 2025
URL:https://campus.stbrendansrugbyclub.com.ar/evento/necochea-2025/
LOCATION:HOTEL HORIZONTE – NECOCHEA\, CALLE 85 VILLA DIAZ VELEZ 383\, NECOCHEA\, BUENOS AIRES\, B7630\, Argentina
CATEGORIES:INTERMEDIA,PLANTEL SUPERIOR,PRE - INTERMEDIA,PRIMERA
ATTACH;FMTTYPE=image/jpeg:https://campus.stbrendansrugbyclub.com.ar/wp-content/uploads/2025/02/2025-03-06-NECOCHEA-2025-BANNER.jpeg
END:VEVENT
BEGIN:VEVENT
DTSTART;TZID=America/Argentina/Buenos_Aires:20250304T200000
DTEND;TZID=America/Argentina/Buenos_Aires:20250304T220000
DTSTAMP:20260425T122035
CREATED:20241219T200801Z
LAST-MODIFIED:20241219T200801Z
UID:7733-1741118400-1741125600@campus.stbrendansrugbyclub.com.ar
SUMMARY:ENTRENAMIENTO FFAA
DESCRIPTION:
URL:https://campus.stbrendansrugbyclub.com.ar/evento/entrenamiento-ffaa-13/
LOCATION:SBRC – Círculo de La Fuerza Aérea\, Av. del Libertador 661\, Vicente Lopez\, Pcia. Bs. As.
CATEGORIES:INTERMEDIA,PLANTEL SUPERIOR,PRE - INTERMEDIA,PRIMERA
END:VEVENT
BEGIN:VEVENT
DTSTART;TZID=America/Argentina/Buenos_Aires:20250227T203000
DTEND;TZID=America/Argentina/Buenos_Aires:20250227T220000
DTSTAMP:20260425T122035
CREATED:20241219T200721Z
LAST-MODIFIED:20250223T231140Z
UID:7731-1740688200-1740693600@campus.stbrendansrugbyclub.com.ar
SUMMARY:ENTRENAMIENTO FFAA
DESCRIPTION:
URL:https://campus.stbrendansrugbyclub.com.ar/evento/entrenamiento-ffaa-12/
LOCATION:SBRC – Círculo de La Fuerza Aérea\, Av. del Libertador 661\, Vicente Lopez\, Pcia. Bs. As.
CATEGORIES:INTERMEDIA,PLANTEL SUPERIOR,PRE - INTERMEDIA,PRIMERA
ATTACH;FMTTYPE=image/png:https://campus.stbrendansrugbyclub.com.ar/wp-content/uploads/2025/02/SEMANA-4-10.png
END:VEVENT
END:VCALENDAR