BEGIN:VCALENDAR
VERSION:2.0
PRODID:-//Campus St. Brendan&#039;s Rugby - ECPv6.15.20//NONSGML v1.0//EN
CALSCALE:GREGORIAN
METHOD:PUBLISH
X-ORIGINAL-URL:https://campus.stbrendansrugbyclub.com.ar
X-WR-CALDESC:Eventos para Campus St. Brendan&#039;s Rugby
REFRESH-INTERVAL;VALUE=DURATION:PT1H
X-Robots-Tag:noindex
X-PUBLISHED-TTL:PT1H
BEGIN:VTIMEZONE
TZID:America/Argentina/Buenos_Aires
BEGIN:STANDARD
TZOFFSETFROM:-0300
TZOFFSETTO:-0300
TZNAME:-03
DTSTART:20230101T000000
END:STANDARD
END:VTIMEZONE
BEGIN:VEVENT
DTSTART;TZID=America/Argentina/Buenos_Aires:20250405T110000
DTEND;TZID=America/Argentina/Buenos_Aires:20250405T170000
DTSTAMP:20260425T134339
CREATED:20241219T204102Z
LAST-MODIFIED:20250326T154551Z
UID:7756-1743850800-1743872400@campus.stbrendansrugbyclub.com.ar
SUMMARY:VICENTINOS vs. SBRC - Fecha 4
DESCRIPTION:
URL:https://campus.stbrendansrugbyclub.com.ar/evento/vicentinos-vs-sbrc-fecha-4/
LOCATION:Club Vicentinos\, Av. Primera Junta 3150\, San Miguel\, Pcia. Bs. As.\, Argentina
CATEGORIES:INTERMEDIA,PLANTEL SUPERIOR,PRE - INTERMEDIA,PRIMERA
ATTACH;FMTTYPE=image/png:https://campus.stbrendansrugbyclub.com.ar/wp-content/uploads/2025/03/2025-04-05-FECHA-4-vs-VICENTINOS-BANNER.png
END:VEVENT
BEGIN:VEVENT
DTSTART;TZID=America/Argentina/Buenos_Aires:20250329T100000
DTEND;TZID=America/Argentina/Buenos_Aires:20250329T170000
DTSTAMP:20260425T134339
CREATED:20241219T203928Z
LAST-MODIFIED:20250301T131542Z
UID:7754-1743242400-1743267600@campus.stbrendansrugbyclub.com.ar
SUMMARY:SBRC vs. VIRREYES - Fecha 3
DESCRIPTION:
URL:https://campus.stbrendansrugbyclub.com.ar/evento/sbrc-vs-virreyes-fecha-3/
LOCATION:SBRC – Pilar del Este\, A. Palma 3150\, Villa Rosa\, Pcia. Bs. As.\, Argentina
CATEGORIES:INTERMEDIA,PLANTEL SUPERIOR,PRE - INTERMEDIA,PRIMERA
ATTACH;FMTTYPE=image/png:https://campus.stbrendansrugbyclub.com.ar/wp-content/uploads/2025/03/2025-03-29-FECHA-3-SBRC-vs-VIRREYES-BANNER.png
END:VEVENT
BEGIN:VEVENT
DTSTART;TZID=America/Argentina/Buenos_Aires:20250322T110000
DTEND;TZID=America/Argentina/Buenos_Aires:20250322T170000
DTSTAMP:20260425T134339
CREATED:20241219T202647Z
LAST-MODIFIED:20250301T131357Z
UID:7752-1742641200-1742662800@campus.stbrendansrugbyclub.com.ar
SUMMARY:EL RETIRO vs. SBRC - Fecha 2
DESCRIPTION:
URL:https://campus.stbrendansrugbyclub.com.ar/evento/el-retiro-vs-sbrc-fecha-2/
LOCATION:El Retiro\, Solis Garay y Camino del Buen Ayre\, Hurlingham\, Pcia. de Buenos Aires\, Argentina
CATEGORIES:INTERMEDIA,PLANTEL SUPERIOR,PRE - INTERMEDIA,PRIMERA
ATTACH;FMTTYPE=image/png:https://campus.stbrendansrugbyclub.com.ar/wp-content/uploads/2025/03/2025-03-22-FECHA-2-EL-RETIRO-vs-SBRC-BANNER.png
END:VEVENT
BEGIN:VEVENT
DTSTART;TZID=America/Argentina/Buenos_Aires:20250322T093000
DTEND;TZID=America/Argentina/Buenos_Aires:20250322T123000
DTSTAMP:20260425T134339
CREATED:20250227T002754Z
LAST-MODIFIED:20250301T132326Z
UID:8407-1742635800-1742646600@campus.stbrendansrugbyclub.com.ar
SUMMARY:Encuentro en El Retiro
DESCRIPTION:Sábado 22 de Marzo – 9:30 hs\nEncuentro con El Retiro – Los Cedros – Tigre \nLes rogamos puntualidad.  \nRECUERDEN:  \n\nTomar un buen desayuno\nHidratación personal (jugadores y acompañantes)\nUsar protector solar y repelente para mosquitos\nTraer protector bucal e indumentaria de rugby\n\nPor cualquier duda o por nuevas familias que quieran empezar a jugar en St. Brendan´s Rugby Club por favor escribanos. Contacto. \n¡TODOS JUNTOS!\n¡VAMOS BRENDAN´S! \n  \n 
URL:https://campus.stbrendansrugbyclub.com.ar/evento/encuentro-en-el-retiro/
LOCATION:El Retiro\, Solis Garay y Camino del Buen Ayre\, Hurlingham\, Pcia. de Buenos Aires\, Argentina
CATEGORIES:INFANTILES
ATTACH;FMTTYPE=image/png:https://campus.stbrendansrugbyclub.com.ar/wp-content/uploads/2024/12/2025-03-22-ENCUENTRO-EN-EL-RETIRO-BANNER.png
END:VEVENT
BEGIN:VEVENT
DTSTART;TZID=America/Argentina/Buenos_Aires:20250315T100000
DTEND;TZID=America/Argentina/Buenos_Aires:20250315T170000
DTSTAMP:20260425T134339
CREATED:20241219T201403Z
LAST-MODIFIED:20250301T131251Z
UID:7743-1742032800-1742058000@campus.stbrendansrugbyclub.com.ar
SUMMARY:SBRC vs. San Carlos - Fecha 1
DESCRIPTION:
URL:https://campus.stbrendansrugbyclub.com.ar/evento/sbrc-vs-san-carlos-fecha-1/
LOCATION:SBRC – Pilar del Este\, A. Palma 3150\, Villa Rosa\, Pcia. Bs. As.\, Argentina
CATEGORIES:INTERMEDIA,PLANTEL SUPERIOR,PRE - INTERMEDIA,PRIMERA
ATTACH;FMTTYPE=image/png:https://campus.stbrendansrugbyclub.com.ar/wp-content/uploads/2025/03/2025-03-15-FECHA-1-SBRC-vs-SAN-CARLOS-BANNER.png
END:VEVENT
BEGIN:VEVENT
DTSTART;TZID=America/Argentina/Buenos_Aires:20250315T100000
DTEND;TZID=America/Argentina/Buenos_Aires:20250315T123000
DTSTAMP:20260425T134339
CREATED:20250227T000535Z
LAST-MODIFIED:20250301T132022Z
UID:8402-1742032800-1742041800@campus.stbrendansrugbyclub.com.ar
SUMMARY:Inicio de actividades. Entrenamiento Infantiles
DESCRIPTION:Sábado 15 de Marzo – 9:45 hs\nEntrenamiento en el Club. Les rogamos puntualidad.  \nRECUERDEN:  \n\nTomar un buen desayuno\nHidratación personal (jugadores y acompañantes)\nUsar protector solar y repelente para mosquitos\nTraer protector bucal e indumentaria de rugby\n\nPor cualquier duda o por nuevas familias que quieran empezar a jugar en St. Brendan´s Rugby Club por favor escribanos. Contacto. \n¡TODOS JUNTOS!\n¡VAMOS BRENDAN´S!
URL:https://campus.stbrendansrugbyclub.com.ar/evento/inicio-de-actividades-entrenamiento-infantiles/
LOCATION:SBRC – Pilar del Este\, A. Palma 3150\, Villa Rosa\, Pcia. Bs. As.\, Argentina
CATEGORIES:INFANTILES
ATTACH;FMTTYPE=image/png:https://campus.stbrendansrugbyclub.com.ar/wp-content/uploads/2024/12/2025-03-15-INICIO-INFANTILES-BANNER.png
END:VEVENT
BEGIN:VEVENT
DTSTART;TZID=America/Argentina/Buenos_Aires:20250313T200000
DTEND;TZID=America/Argentina/Buenos_Aires:20250313T220000
DTSTAMP:20260425T134339
CREATED:20241219T201317Z
LAST-MODIFIED:20241219T201317Z
UID:7741-1741896000-1741903200@campus.stbrendansrugbyclub.com.ar
SUMMARY:ENTRENAMIENTO FFAA
DESCRIPTION:
URL:https://campus.stbrendansrugbyclub.com.ar/evento/entrenamiento-ffaa-15/
LOCATION:SBRC – Círculo de La Fuerza Aérea\, Av. del Libertador 661\, Vicente Lopez\, Pcia. Bs. As.
CATEGORIES:INTERMEDIA,PLANTEL SUPERIOR,PRE - INTERMEDIA,PRIMERA
END:VEVENT
BEGIN:VEVENT
DTSTART;TZID=America/Argentina/Buenos_Aires:20250311T200000
DTEND;TZID=America/Argentina/Buenos_Aires:20250311T220000
DTSTAMP:20260425T134339
CREATED:20241219T201235Z
LAST-MODIFIED:20241219T201235Z
UID:7739-1741723200-1741730400@campus.stbrendansrugbyclub.com.ar
SUMMARY:ENTRENAMIENTO FFAA
DESCRIPTION:
URL:https://campus.stbrendansrugbyclub.com.ar/evento/entrenamiento-ffaa-14/
LOCATION:SBRC – Círculo de La Fuerza Aérea\, Av. del Libertador 661\, Vicente Lopez\, Pcia. Bs. As.
CATEGORIES:INTERMEDIA,PLANTEL SUPERIOR,PRE - INTERMEDIA,PRIMERA
END:VEVENT
BEGIN:VEVENT
DTSTART;TZID=America/Argentina/Buenos_Aires:20250306T220000
DTEND;TZID=America/Argentina/Buenos_Aires:20250309T220000
DTSTAMP:20260425T134339
CREATED:20241219T201122Z
LAST-MODIFIED:20250224T132516Z
UID:7735-1741298400-1741557600@campus.stbrendansrugbyclub.com.ar
SUMMARY:NECOCHEA 2025
DESCRIPTION:NECOCHEA 2025
URL:https://campus.stbrendansrugbyclub.com.ar/evento/necochea-2025/
LOCATION:HOTEL HORIZONTE – NECOCHEA\, CALLE 85 VILLA DIAZ VELEZ 383\, NECOCHEA\, BUENOS AIRES\, B7630\, Argentina
CATEGORIES:INTERMEDIA,PLANTEL SUPERIOR,PRE - INTERMEDIA,PRIMERA
ATTACH;FMTTYPE=image/jpeg:https://campus.stbrendansrugbyclub.com.ar/wp-content/uploads/2025/02/2025-03-06-NECOCHEA-2025-BANNER.jpeg
END:VEVENT
BEGIN:VEVENT
DTSTART;TZID=America/Argentina/Buenos_Aires:20250304T200000
DTEND;TZID=America/Argentina/Buenos_Aires:20250304T220000
DTSTAMP:20260425T134339
CREATED:20241219T200801Z
LAST-MODIFIED:20241219T200801Z
UID:7733-1741118400-1741125600@campus.stbrendansrugbyclub.com.ar
SUMMARY:ENTRENAMIENTO FFAA
DESCRIPTION:
URL:https://campus.stbrendansrugbyclub.com.ar/evento/entrenamiento-ffaa-13/
LOCATION:SBRC – Círculo de La Fuerza Aérea\, Av. del Libertador 661\, Vicente Lopez\, Pcia. Bs. As.
CATEGORIES:INTERMEDIA,PLANTEL SUPERIOR,PRE - INTERMEDIA,PRIMERA
END:VEVENT
BEGIN:VEVENT
DTSTART;TZID=America/Argentina/Buenos_Aires:20250227T203000
DTEND;TZID=America/Argentina/Buenos_Aires:20250227T220000
DTSTAMP:20260425T134339
CREATED:20241219T200721Z
LAST-MODIFIED:20250223T231140Z
UID:7731-1740688200-1740693600@campus.stbrendansrugbyclub.com.ar
SUMMARY:ENTRENAMIENTO FFAA
DESCRIPTION:
URL:https://campus.stbrendansrugbyclub.com.ar/evento/entrenamiento-ffaa-12/
LOCATION:SBRC – Círculo de La Fuerza Aérea\, Av. del Libertador 661\, Vicente Lopez\, Pcia. Bs. As.
CATEGORIES:INTERMEDIA,PLANTEL SUPERIOR,PRE - INTERMEDIA,PRIMERA
ATTACH;FMTTYPE=image/png:https://campus.stbrendansrugbyclub.com.ar/wp-content/uploads/2025/02/SEMANA-4-10.png
END:VEVENT
BEGIN:VEVENT
DTSTART;TZID=America/Argentina/Buenos_Aires:20250225T200000
DTEND;TZID=America/Argentina/Buenos_Aires:20250225T220000
DTSTAMP:20260425T134339
CREATED:20241219T200616Z
LAST-MODIFIED:20250223T231131Z
UID:7729-1740513600-1740520800@campus.stbrendansrugbyclub.com.ar
SUMMARY:ENTRENAMIENTO FFAA
DESCRIPTION:
URL:https://campus.stbrendansrugbyclub.com.ar/evento/entrenamiento-ffaa-11/
LOCATION:SBRC – Círculo de La Fuerza Aérea\, Av. del Libertador 661\, Vicente Lopez\, Pcia. Bs. As.
CATEGORIES:INTERMEDIA,PLANTEL SUPERIOR,PRE - INTERMEDIA,PRIMERA
ATTACH;FMTTYPE=image/png:https://campus.stbrendansrugbyclub.com.ar/wp-content/uploads/2025/02/SEMANA-4-08.png
END:VEVENT
BEGIN:VEVENT
DTSTART;TZID=America/Argentina/Buenos_Aires:20250224T200000
DTEND;TZID=America/Argentina/Buenos_Aires:20250224T220000
DTSTAMP:20260425T134339
CREATED:20241219T200530Z
LAST-MODIFIED:20250223T231113Z
UID:7727-1740427200-1740434400@campus.stbrendansrugbyclub.com.ar
SUMMARY:ENTRENAMIENTO FFAA
DESCRIPTION:
URL:https://campus.stbrendansrugbyclub.com.ar/evento/entrenamiento-ffaa-10/
LOCATION:SBRC – Círculo de La Fuerza Aérea\, Av. del Libertador 661\, Vicente Lopez\, Pcia. Bs. As.
CATEGORIES:INTERMEDIA,PLANTEL SUPERIOR,PRE - INTERMEDIA,PRIMERA
ATTACH;FMTTYPE=image/png:https://campus.stbrendansrugbyclub.com.ar/wp-content/uploads/2025/02/SEMANA-4-03.png
END:VEVENT
BEGIN:VEVENT
DTSTART;TZID=America/Argentina/Buenos_Aires:20250222T130000
DTEND;TZID=America/Argentina/Buenos_Aires:20250222T190000
DTSTAMP:20260425T134339
CREATED:20241219T200500Z
LAST-MODIFIED:20250218T141800Z
UID:7725-1740229200-1740250800@campus.stbrendansrugbyclub.com.ar
SUMMARY:AMISTOSO vs. PERGAMINO - LOCAL
DESCRIPTION:SEMANA 3 PRETEMPORADA 2025
URL:https://campus.stbrendansrugbyclub.com.ar/evento/amistoso-vs-pergamino-local/
LOCATION:SBRC – Pilar del Este\, A. Palma 3150\, Villa Rosa\, Pcia. Bs. As.\, Argentina
CATEGORIES:INTERMEDIA,PLANTEL SUPERIOR,PRE - INTERMEDIA,PRIMERA
ATTACH;FMTTYPE=image/png:https://campus.stbrendansrugbyclub.com.ar/wp-content/uploads/2024/12/2025-02-22-AMISTOSO-vs-PERGAMINO.png
END:VEVENT
BEGIN:VEVENT
DTSTART;TZID=America/Argentina/Buenos_Aires:20250222T110000
DTEND;TZID=America/Argentina/Buenos_Aires:20250222T130000
DTSTAMP:20260425T134339
CREATED:20250222T015707Z
LAST-MODIFIED:20250222T015707Z
UID:8310-1740222000-1740229200@campus.stbrendansrugbyclub.com.ar
SUMMARY:Capacitación Entrenadores Infantiles
DESCRIPTION:RUGBY INFANTIL TIPS PARA ENTRENADORES \n \n 
URL:https://campus.stbrendansrugbyclub.com.ar/evento/capacitacion-entrenadores-infantiles/
LOCATION:SBRC – Pilar del Este\, A. Palma 3150\, Villa Rosa\, Pcia. Bs. As.\, Argentina
CATEGORIES:INFANTILES,PLANTEL SUPERIOR
END:VEVENT
BEGIN:VEVENT
DTSTART;TZID=America/Argentina/Buenos_Aires:20250220T200000
DTEND;TZID=America/Argentina/Buenos_Aires:20250220T220000
DTSTAMP:20260425T134339
CREATED:20250218T125225Z
LAST-MODIFIED:20250218T130247Z
UID:8114-1740081600-1740088800@campus.stbrendansrugbyclub.com.ar
SUMMARY:ENTRENAMIENTO FFAA
DESCRIPTION:SEMANA 3 PRETEMPORADA 2025
URL:https://campus.stbrendansrugbyclub.com.ar/evento/entrenamiento-ffaa-16/
LOCATION:SBRC – Círculo de La Fuerza Aérea\, Av. del Libertador 661\, Vicente Lopez\, Pcia. Bs. As.
CATEGORIES:INTERMEDIA,PLANTEL SUPERIOR,PRE - INTERMEDIA,PRIMERA
ATTACH;FMTTYPE=image/png:https://campus.stbrendansrugbyclub.com.ar/wp-content/uploads/2025/02/2025-02-20-ENTRENAMIENTO-12-1.png
END:VEVENT
BEGIN:VEVENT
DTSTART;TZID=America/Argentina/Buenos_Aires:20250218T200000
DTEND;TZID=America/Argentina/Buenos_Aires:20250218T220000
DTSTAMP:20260425T134339
CREATED:20241219T200420Z
LAST-MODIFIED:20250218T130240Z
UID:7723-1739908800-1739916000@campus.stbrendansrugbyclub.com.ar
SUMMARY:ENTRENAMIENTO FFAA
DESCRIPTION:SEMANA 3 PRETEMPORADA 2025
URL:https://campus.stbrendansrugbyclub.com.ar/evento/entrenamiento-ffaa-9/
LOCATION:SBRC – Círculo de La Fuerza Aérea\, Av. del Libertador 661\, Vicente Lopez\, Pcia. Bs. As.
CATEGORIES:INTERMEDIA,PLANTEL SUPERIOR,PRE - INTERMEDIA,PRIMERA
ATTACH;FMTTYPE=image/png:https://campus.stbrendansrugbyclub.com.ar/wp-content/uploads/2025/02/2025-02-18-ENTRENAMIENTO-11-1.png
END:VEVENT
BEGIN:VEVENT
DTSTART;TZID=America/Argentina/Buenos_Aires:20250217T200000
DTEND;TZID=America/Argentina/Buenos_Aires:20250217T220000
DTSTAMP:20260425T134339
CREATED:20241219T200346Z
LAST-MODIFIED:20250218T130209Z
UID:7721-1739822400-1739829600@campus.stbrendansrugbyclub.com.ar
SUMMARY:ENTRENAMIENTO FFAA
DESCRIPTION:SEMANA 3 PRETEMPORADA 2025
URL:https://campus.stbrendansrugbyclub.com.ar/evento/entrenamiento-ffaa-8/
LOCATION:SBRC – Círculo de La Fuerza Aérea\, Av. del Libertador 661\, Vicente Lopez\, Pcia. Bs. As.
CATEGORIES:INTERMEDIA,PLANTEL SUPERIOR,PRE - INTERMEDIA,PRIMERA
ATTACH;FMTTYPE=image/png:https://campus.stbrendansrugbyclub.com.ar/wp-content/uploads/2025/02/2025-02-17-ENTRENAMIENTO-10-1.png
END:VEVENT
BEGIN:VEVENT
DTSTART;TZID=America/Argentina/Buenos_Aires:20250215T100000
DTEND;TZID=America/Argentina/Buenos_Aires:20250215T120000
DTSTAMP:20260425T134339
CREATED:20241219T200235Z
LAST-MODIFIED:20250218T130147Z
UID:7718-1739613600-1739620800@campus.stbrendansrugbyclub.com.ar
SUMMARY:ENTRENAMIENTO SBRC - PILAR
DESCRIPTION:SEMANA 3 PRETEMPORADA 2025
URL:https://campus.stbrendansrugbyclub.com.ar/evento/entrenamiento-sbrc-pilar-2/
LOCATION:SBRC – Pilar del Este\, A. Palma 3150\, Villa Rosa\, Pcia. Bs. As.\, Argentina
CATEGORIES:INTERMEDIA,PLANTEL SUPERIOR,PRE - INTERMEDIA,PRIMERA
ATTACH;FMTTYPE=image/png:https://campus.stbrendansrugbyclub.com.ar/wp-content/uploads/2025/02/2025-02-15-ENTRENAMIENTO-9-1.png
END:VEVENT
BEGIN:VEVENT
DTSTART;TZID=America/Argentina/Buenos_Aires:20250213T200000
DTEND;TZID=America/Argentina/Buenos_Aires:20250213T220000
DTSTAMP:20260425T134339
CREATED:20241219T200141Z
LAST-MODIFIED:20250218T130043Z
UID:7715-1739476800-1739484000@campus.stbrendansrugbyclub.com.ar
SUMMARY:ENTRENAMIENTO FFAA
DESCRIPTION:SEMANA 2 PRETEMPORADA 2025
URL:https://campus.stbrendansrugbyclub.com.ar/evento/entrenamiento-ffaa-7/
LOCATION:SBRC – Círculo de La Fuerza Aérea\, Av. del Libertador 661\, Vicente Lopez\, Pcia. Bs. As.
CATEGORIES:INTERMEDIA,PLANTEL SUPERIOR,PRE - INTERMEDIA,PRIMERA
ATTACH;FMTTYPE=image/png:https://campus.stbrendansrugbyclub.com.ar/wp-content/uploads/2025/02/2025-02-13-ENTRENAMIENTO-8-1.png
END:VEVENT
BEGIN:VEVENT
DTSTART;TZID=America/Argentina/Buenos_Aires:20250213T184500
DTEND;TZID=America/Argentina/Buenos_Aires:20250213T200000
DTSTAMP:20260425T134339
CREATED:20250213T152500Z
LAST-MODIFIED:20250213T172733Z
UID:7993-1739472300-1739476800@campus.stbrendansrugbyclub.com.ar
SUMMARY:REUNION STAFF PRETEMPORADA 2025
DESCRIPTION:PLAN DE JUEGO DEFENSA\nPLAN DE JUEGO ATAQUE\nROLES STAFF\nHERRAMIENTAS CAMPUS + GESTION
URL:https://campus.stbrendansrugbyclub.com.ar/evento/reunion-staff-pretemporada-2025/
LOCATION:SBRC – Círculo de La Fuerza Aérea\, Av. del Libertador 661\, Vicente Lopez\, Pcia. Bs. As.
CATEGORIES:INTERMEDIA,PLANTEL SUPERIOR,PRE - INTERMEDIA,PRIMERA
END:VEVENT
BEGIN:VEVENT
DTSTART;TZID=America/Argentina/Buenos_Aires:20250211T200000
DTEND;TZID=America/Argentina/Buenos_Aires:20250211T220000
DTSTAMP:20260425T134339
CREATED:20241219T195448Z
LAST-MODIFIED:20250218T125929Z
UID:7705-1739304000-1739311200@campus.stbrendansrugbyclub.com.ar
SUMMARY:ENTRENAMIENTO FFAA
DESCRIPTION:SEMANA 2 PRETEMPORADA 2025
URL:https://campus.stbrendansrugbyclub.com.ar/evento/entrenamiento-ffaa-5/
LOCATION:SBRC – Círculo de La Fuerza Aérea\, Av. del Libertador 661\, Vicente Lopez\, Pcia. Bs. As.
CATEGORIES:INTERMEDIA,PLANTEL SUPERIOR,PRE - INTERMEDIA,PRIMERA
ATTACH;FMTTYPE=image/png:https://campus.stbrendansrugbyclub.com.ar/wp-content/uploads/2025/02/2025-02-11-ENTRENAMIENTO-07-1.png
END:VEVENT
BEGIN:VEVENT
DTSTART;TZID=America/Argentina/Buenos_Aires:20250210T194500
DTEND;TZID=America/Argentina/Buenos_Aires:20250210T220000
DTSTAMP:20260425T134339
CREATED:20241219T195420Z
LAST-MODIFIED:20250218T125900Z
UID:7703-1739216700-1739224800@campus.stbrendansrugbyclub.com.ar
SUMMARY:ENTRENAMIENTO FFAA
DESCRIPTION:SEMANA 2 PRETEMPORADA 2025
URL:https://campus.stbrendansrugbyclub.com.ar/evento/entrenamiento-ffaa-4/
LOCATION:SBRC – Círculo de La Fuerza Aérea\, Av. del Libertador 661\, Vicente Lopez\, Pcia. Bs. As.
CATEGORIES:INTERMEDIA,PLANTEL SUPERIOR,PRE - INTERMEDIA,PRIMERA
ATTACH;FMTTYPE=image/png:https://campus.stbrendansrugbyclub.com.ar/wp-content/uploads/2025/02/2025-02-10-ENTRENAMIENTO-06-1.png
END:VEVENT
BEGIN:VEVENT
DTSTART;TZID=America/Argentina/Buenos_Aires:20250208T100000
DTEND;TZID=America/Argentina/Buenos_Aires:20250208T120000
DTSTAMP:20260425T134339
CREATED:20241219T195347Z
LAST-MODIFIED:20250218T125811Z
UID:7701-1739008800-1739016000@campus.stbrendansrugbyclub.com.ar
SUMMARY:ENTRENAMIENTO SBRC - PILAR
DESCRIPTION:SEMANA 2 PRETEMPORADA 2025
URL:https://campus.stbrendansrugbyclub.com.ar/evento/entrenamiento-sbrc-pilar/
LOCATION:SBRC – Pilar del Este\, A. Palma 3150\, Villa Rosa\, Pcia. Bs. As.\, Argentina
CATEGORIES:INTERMEDIA,PLANTEL SUPERIOR,PRE - INTERMEDIA,PRIMERA
ATTACH;FMTTYPE=image/png:https://campus.stbrendansrugbyclub.com.ar/wp-content/uploads/2025/02/2025-02-08-ENTRENAMIENTO-05-1.png
END:VEVENT
BEGIN:VEVENT
DTSTART;TZID=America/Argentina/Buenos_Aires:20250206T200000
DTEND;TZID=America/Argentina/Buenos_Aires:20250206T220000
DTSTAMP:20260425T134339
CREATED:20241219T195249Z
LAST-MODIFIED:20250218T125703Z
UID:7699-1738872000-1738879200@campus.stbrendansrugbyclub.com.ar
SUMMARY:ENTRENAMIENTO FFAA
DESCRIPTION:SEMANA 1 PRETEMPORADA 2025
URL:https://campus.stbrendansrugbyclub.com.ar/evento/entrenamiento-ffaa-3/
LOCATION:SBRC – Círculo de La Fuerza Aérea\, Av. del Libertador 661\, Vicente Lopez\, Pcia. Bs. As.
CATEGORIES:INTERMEDIA,PLANTEL SUPERIOR,PRE - INTERMEDIA,PRIMERA
ATTACH;FMTTYPE=image/png:https://campus.stbrendansrugbyclub.com.ar/wp-content/uploads/2024/12/2025-02-06-ENTRENAMINETO-4.png
END:VEVENT
BEGIN:VEVENT
DTSTART;TZID=America/Argentina/Buenos_Aires:20250204T200000
DTEND;TZID=America/Argentina/Buenos_Aires:20250204T220000
DTSTAMP:20260425T134339
CREATED:20241219T195216Z
LAST-MODIFIED:20250218T125609Z
UID:7697-1738699200-1738706400@campus.stbrendansrugbyclub.com.ar
SUMMARY:ENTRENAMIENTO FFAA
DESCRIPTION:SEMANA 1 PRETEMPORADA 2025
URL:https://campus.stbrendansrugbyclub.com.ar/evento/entrenamiento-ffaa-2/
LOCATION:SBRC – Círculo de La Fuerza Aérea\, Av. del Libertador 661\, Vicente Lopez\, Pcia. Bs. As.
CATEGORIES:INTERMEDIA,PLANTEL SUPERIOR,PRE - INTERMEDIA,PRIMERA
ATTACH;FMTTYPE=image/png:https://campus.stbrendansrugbyclub.com.ar/wp-content/uploads/2025/02/2025-02-04-ENTRENAMIENTO-03.png
END:VEVENT
BEGIN:VEVENT
DTSTART;TZID=America/Argentina/Buenos_Aires:20250203T200000
DTEND;TZID=America/Argentina/Buenos_Aires:20250203T220000
DTSTAMP:20260425T134339
CREATED:20241219T195127Z
LAST-MODIFIED:20250218T125434Z
UID:7695-1738612800-1738620000@campus.stbrendansrugbyclub.com.ar
SUMMARY:ENTRENAMIENTO FFAA
DESCRIPTION:SEMANA 1 PRETEMPORADA 2025
URL:https://campus.stbrendansrugbyclub.com.ar/evento/entrenamiento-ffaa/
LOCATION:SBRC – Círculo de La Fuerza Aérea\, Av. del Libertador 661\, Vicente Lopez\, Pcia. Bs. As.
CATEGORIES:INTERMEDIA,PLANTEL SUPERIOR,PRE - INTERMEDIA,PRIMERA
ATTACH;FMTTYPE=image/png:https://campus.stbrendansrugbyclub.com.ar/wp-content/uploads/2025/02/2025-02-03-ENTRENAMIENTO-02.png
END:VEVENT
BEGIN:VEVENT
DTSTART;TZID=America/Argentina/Buenos_Aires:20250201T100000
DTEND;TZID=America/Argentina/Buenos_Aires:20250201T120000
DTSTAMP:20260425T134339
CREATED:20241219T194146Z
LAST-MODIFIED:20250218T125542Z
UID:7693-1738404000-1738411200@campus.stbrendansrugbyclub.com.ar
SUMMARY:ENTRENAMIENTO SBRC - PILAR
DESCRIPTION:SEMANA 1 PRETEMPORADA 2025
URL:https://campus.stbrendansrugbyclub.com.ar/evento/inicio-pretemporada-2025/
LOCATION:SBRC – Pilar del Este\, A. Palma 3150\, Villa Rosa\, Pcia. Bs. As.\, Argentina
CATEGORIES:INTERMEDIA,PLANTEL SUPERIOR,PRE - INTERMEDIA,PRIMERA
ATTACH;FMTTYPE=image/png:https://campus.stbrendansrugbyclub.com.ar/wp-content/uploads/2024/12/2025-02-01-ENTRENAMINETO-1.png
END:VEVENT
BEGIN:VEVENT
DTSTART;TZID=America/Argentina/Buenos_Aires:20250130T200000
DTEND;TZID=America/Argentina/Buenos_Aires:20250130T210000
DTSTAMP:20260425T134339
CREATED:20241219T194034Z
LAST-MODIFIED:20250121T220450Z
UID:7691-1738267200-1738270800@campus.stbrendansrugbyclub.com.ar
SUMMARY:ENTRENAMIENTO EN BAMBOO TRAINING CLUB
DESCRIPTION:Traer Toalla\, Agua\, zapas correr\, entrenar y malla.
URL:https://campus.stbrendansrugbyclub.com.ar/evento/sialamaluca-a-confirmar-2/
LOCATION:Pcia. Bs. As.
CATEGORIES:INTERMEDIA,PLANTEL SUPERIOR,PRE - INTERMEDIA,PRIMERA
END:VEVENT
BEGIN:VEVENT
DTSTART;TZID=America/Argentina/Buenos_Aires:20241219T194500
DTEND;TZID=America/Argentina/Buenos_Aires:20241219T210000
DTSTAMP:20260425T134339
CREATED:20241219T011755Z
LAST-MODIFIED:20241219T135857Z
UID:7666-1734637500-1734642000@campus.stbrendansrugbyclub.com.ar
SUMMARY:Campo 3 Post 2024 - Vial
DESCRIPTION:Vial costero Vicente Lopez
URL:https://campus.stbrendansrugbyclub.com.ar/evento/entrenamiento-post-temporada-2024-vial-costero/
LOCATION:VIAL COSTERO VICENTE LOPEZ\, GRAL. JUAN LAVALLE Y RICARDO ALFONSIN\, VICENTE LOPEZ\, BUENOS AIRES\, Argentina
CATEGORIES:PLANTEL SUPERIOR
END:VEVENT
END:VCALENDAR