BEGIN:VCALENDAR
VERSION:2.0
PRODID:-//Campus St. Brendan&#039;s Rugby - ECPv6.15.20//NONSGML v1.0//EN
CALSCALE:GREGORIAN
METHOD:PUBLISH
X-ORIGINAL-URL:https://campus.stbrendansrugbyclub.com.ar
X-WR-CALDESC:Eventos para Campus St. Brendan&#039;s Rugby
REFRESH-INTERVAL;VALUE=DURATION:PT1H
X-Robots-Tag:noindex
X-PUBLISHED-TTL:PT1H
BEGIN:VTIMEZONE
TZID:America/Argentina/Buenos_Aires
BEGIN:STANDARD
TZOFFSETFROM:-0300
TZOFFSETTO:-0300
TZNAME:-03
DTSTART:20240101T000000
END:STANDARD
END:VTIMEZONE
BEGIN:VEVENT
DTSTART;TZID=America/Argentina/Buenos_Aires:20250906T100000
DTEND;TZID=America/Argentina/Buenos_Aires:20250906T170000
DTSTAMP:20260424T014019
CREATED:20241223T112834Z
LAST-MODIFIED:20241223T112834Z
UID:7805-1757152800-1757178000@campus.stbrendansrugbyclub.com.ar
SUMMARY:SBRC vs. SITAS - Fecha 21
DESCRIPTION:
URL:https://campus.stbrendansrugbyclub.com.ar/evento/sbrc-vs-sitas-fecha-21/
LOCATION:SBRC – Pilar del Este\, A. Palma 3150\, Villa Rosa\, Pcia. Bs. As.\, Argentina
CATEGORIES:INTERMEDIA,PLANTEL SUPERIOR,PRE - INTERMEDIA,PRIMERA
END:VEVENT
BEGIN:VEVENT
DTSTART;TZID=America/Argentina/Buenos_Aires:20250913T110000
DTEND;TZID=America/Argentina/Buenos_Aires:20250913T170000
DTSTAMP:20260424T014019
CREATED:20241223T113057Z
LAST-MODIFIED:20241223T113107Z
UID:7807-1757761200-1757782800@campus.stbrendansrugbyclub.com.ar
SUMMARY:CIUDAD de BS. AS. vs. SBRC - Fecha 22
DESCRIPTION:
URL:https://campus.stbrendansrugbyclub.com.ar/evento/ciudad-de-bs-as-vs-sbrc-fecha-22/
LOCATION:CIUDAD DE BS. AS.\, Av. del Libertador 7501\, Cdad. Autónoma de Buenos Aires\, BUENOS AIRES\, C1429\, Argentina
CATEGORIES:INTERMEDIA,PLANTEL SUPERIOR,PRE - INTERMEDIA,PRIMERA
END:VEVENT
BEGIN:VEVENT
DTSTART;VALUE=DATE:20250920
DTEND;VALUE=DATE:20250922
DTSTAMP:20260424T014019
CREATED:20241223T113138Z
LAST-MODIFIED:20241223T113138Z
UID:7811-1758330000-1758416399@campus.stbrendansrugbyclub.com.ar
SUMMARY:SEPTIEMBRE 20 LIBRE
DESCRIPTION:
URL:https://campus.stbrendansrugbyclub.com.ar/evento/septiembre-20-libre/
LOCATION:Pcia. Bs. As.
CATEGORIES:INTERMEDIA,PLANTEL SUPERIOR,PRE - INTERMEDIA,PRIMERA
END:VEVENT
BEGIN:VEVENT
DTSTART;TZID=America/Argentina/Buenos_Aires:20250927T110000
DTEND;TZID=America/Argentina/Buenos_Aires:20250927T170000
DTSTAMP:20260424T014019
CREATED:20241223T113222Z
LAST-MODIFIED:20241223T113222Z
UID:7813-1758970800-1758992400@campus.stbrendansrugbyclub.com.ar
SUMMARY:SBRC vs. MONTE GRANDE - Fecha 23
DESCRIPTION:
URL:https://campus.stbrendansrugbyclub.com.ar/evento/sbrc-vs-monte-grande-fecha-23/
LOCATION:SBRC – Pilar del Este\, A. Palma 3150\, Villa Rosa\, Pcia. Bs. As.\, Argentina
CATEGORIES:INTERMEDIA,PLANTEL SUPERIOR,PRE - INTERMEDIA,PRIMERA
END:VEVENT
END:VCALENDAR