BEGIN:VCALENDAR
VERSION:2.0
PRODID:-//Campus St. Brendan&#039;s Rugby - ECPv6.15.20//NONSGML v1.0//EN
CALSCALE:GREGORIAN
METHOD:PUBLISH
X-WR-CALNAME:Campus St. Brendan&#039;s Rugby
X-ORIGINAL-URL:https://campus.stbrendansrugbyclub.com.ar
X-WR-CALDESC:Eventos para Campus St. Brendan&#039;s Rugby
REFRESH-INTERVAL;VALUE=DURATION:PT1H
X-Robots-Tag:noindex
X-PUBLISHED-TTL:PT1H
BEGIN:VTIMEZONE
TZID:America/Argentina/Buenos_Aires
BEGIN:STANDARD
TZOFFSETFROM:-0300
TZOFFSETTO:-0300
TZNAME:-03
DTSTART:20240101T000000
END:STANDARD
END:VTIMEZONE
BEGIN:VEVENT
DTSTART;TZID=America/Argentina/Buenos_Aires:20251202T080000
DTEND;TZID=America/Argentina/Buenos_Aires:20251202T170000
DTSTAMP:20260423T210051
CREATED:20251025T144150Z
LAST-MODIFIED:20251025T144150Z
UID:10821-1764662400-1764694800@campus.stbrendansrugbyclub.com.ar
SUMMARY:SIALAMALUCA
DESCRIPTION:
URL:https://campus.stbrendansrugbyclub.com.ar/evento/sialamaluca-5/
LOCATION:SIALAMALUCA\, Pje. Pinto 4462\, Ciudad Autonoma De Buenos Aires\, BUENOS AIRES\, C1429APZ\, Argentina
CATEGORIES:INTERMEDIA,PLANTEL SUPERIOR,PRE - INTERMEDIA,PRIMERA
END:VEVENT
BEGIN:VEVENT
DTSTART;TZID=America/Argentina/Buenos_Aires:20251204T080000
DTEND;TZID=America/Argentina/Buenos_Aires:20251204T170000
DTSTAMP:20260423T210051
CREATED:20251025T151159Z
LAST-MODIFIED:20251025T151159Z
UID:10849-1764835200-1764867600@campus.stbrendansrugbyclub.com.ar
SUMMARY:SIALAMALUCA
DESCRIPTION:
URL:https://campus.stbrendansrugbyclub.com.ar/evento/sialamaluca-8/
LOCATION:SIALAMALUCA\, Pje. Pinto 4462\, Ciudad Autonoma De Buenos Aires\, BUENOS AIRES\, C1429APZ\, Argentina
CATEGORIES:INTERMEDIA,PLANTEL SUPERIOR,PRE - INTERMEDIA,PRIMERA
END:VEVENT
BEGIN:VEVENT
DTSTART;TZID=America/Argentina/Buenos_Aires:20251209T200000
DTEND;TZID=America/Argentina/Buenos_Aires:20251209T210000
DTSTAMP:20260423T210051
CREATED:20251025T144236Z
LAST-MODIFIED:20251025T144236Z
UID:10825-1765310400-1765314000@campus.stbrendansrugbyclub.com.ar
SUMMARY:SIALAMALUCA
DESCRIPTION:
URL:https://campus.stbrendansrugbyclub.com.ar/evento/sialamaluca-6/
LOCATION:SIALAMALUCA\, Pinto 4462\, Cdad. Autónoma de Buenos Aires\, BUENOS AIRES\, C1429APZ\, Argentina
CATEGORIES:INTERMEDIA,PLANTEL SUPERIOR,PRE - INTERMEDIA,PRIMERA
END:VEVENT
BEGIN:VEVENT
DTSTART;TZID=America/Argentina/Buenos_Aires:20251211T200000
DTEND;TZID=America/Argentina/Buenos_Aires:20251211T210000
DTSTAMP:20260423T210051
CREATED:20251025T151231Z
LAST-MODIFIED:20251025T151231Z
UID:10851-1765483200-1765486800@campus.stbrendansrugbyclub.com.ar
SUMMARY:SIALAMALUCA
DESCRIPTION:
URL:https://campus.stbrendansrugbyclub.com.ar/evento/sialamaluca-9/
LOCATION:SIALAMALUCA\, Pje. Pinto 4462\, Ciudad Autonoma De Buenos Aires\, BUENOS AIRES\, C1429APZ\, Argentina
CATEGORIES:INTERMEDIA,PLANTEL SUPERIOR,PRE - INTERMEDIA,PRIMERA
END:VEVENT
BEGIN:VEVENT
DTSTART;TZID=America/Argentina/Buenos_Aires:20251216T200000
DTEND;TZID=America/Argentina/Buenos_Aires:20251216T210000
DTSTAMP:20260423T210051
CREATED:20251025T151130Z
LAST-MODIFIED:20251025T151130Z
UID:10847-1765915200-1765918800@campus.stbrendansrugbyclub.com.ar
SUMMARY:SIALAMALUCA
DESCRIPTION:
URL:https://campus.stbrendansrugbyclub.com.ar/evento/sialamaluca-7/
LOCATION:SIALAMALUCA\, Pje. Pinto 4462\, Ciudad Autonoma De Buenos Aires\, BUENOS AIRES\, C1429APZ\, Argentina
CATEGORIES:INTERMEDIA,PLANTEL SUPERIOR,PRE - INTERMEDIA,PRIMERA
END:VEVENT
BEGIN:VEVENT
DTSTART;TZID=America/Argentina/Buenos_Aires:20251218T200000
DTEND;TZID=America/Argentina/Buenos_Aires:20251218T210000
DTSTAMP:20260423T210051
CREATED:20251025T151321Z
LAST-MODIFIED:20251025T151321Z
UID:10853-1766088000-1766091600@campus.stbrendansrugbyclub.com.ar
SUMMARY:SIALAMALUCA
DESCRIPTION:
URL:https://campus.stbrendansrugbyclub.com.ar/evento/sialamaluca-10/
LOCATION:SIALAMALUCA\, Pje. Pinto 4462\, Ciudad Autonoma De Buenos Aires\, BUENOS AIRES\, C1429APZ\, Argentina
CATEGORIES:INTERMEDIA,PLANTEL SUPERIOR,PRE - INTERMEDIA,PRIMERA
END:VEVENT
END:VCALENDAR